BEGIN:VCALENDAR
VERSION:2.0
PRODID:-//Best bookstore café in Jacksonville, FL | Happy Medium Books Café - ECPv6.15.11//NONSGML v1.0//EN
CALSCALE:GREGORIAN
METHOD:PUBLISH
X-WR-CALNAME:Best bookstore café in Jacksonville, FL | Happy Medium Books Café
X-ORIGINAL-URL:https://happymediumbookscafe.com
X-WR-CALDESC:Events for Best bookstore café in Jacksonville, FL | Happy Medium Books Café
REFRESH-INTERVAL;VALUE=DURATION:PT1H
X-Robots-Tag:noindex
X-PUBLISHED-TTL:PT1H
BEGIN:VTIMEZONE
TZID:America/New_York
BEGIN:DAYLIGHT
TZOFFSETFROM:-0500
TZOFFSETTO:-0400
TZNAME:EDT
DTSTART:20250309T070000
END:DAYLIGHT
BEGIN:STANDARD
TZOFFSETFROM:-0400
TZOFFSETTO:-0500
TZNAME:EST
DTSTART:20251102T060000
END:STANDARD
BEGIN:DAYLIGHT
TZOFFSETFROM:-0500
TZOFFSETTO:-0400
TZNAME:EDT
DTSTART:20260308T070000
END:DAYLIGHT
BEGIN:STANDARD
TZOFFSETFROM:-0400
TZOFFSETTO:-0500
TZNAME:EST
DTSTART:20261101T060000
END:STANDARD
BEGIN:DAYLIGHT
TZOFFSETFROM:-0500
TZOFFSETTO:-0400
TZNAME:EDT
DTSTART:20270314T070000
END:DAYLIGHT
BEGIN:STANDARD
TZOFFSETFROM:-0400
TZOFFSETTO:-0500
TZNAME:EST
DTSTART:20271107T060000
END:STANDARD
BEGIN:DAYLIGHT
TZOFFSETFROM:-0500
TZOFFSETTO:-0400
TZNAME:EDT
DTSTART:20280312T070000
END:DAYLIGHT
BEGIN:STANDARD
TZOFFSETFROM:-0400
TZOFFSETTO:-0500
TZNAME:EST
DTSTART:20281105T060000
END:STANDARD
END:VTIMEZONE
BEGIN:VEVENT
DTSTART;TZID=America/New_York:20261015T100000
DTEND;TZID=America/New_York:20261015T103000
DTSTAMP:20260425T030520
CREATED:20260120T001655Z
LAST-MODIFIED:20260316T153434Z
UID:10003575-1792058400-1792060200@happymediumbookscafe.com
SUMMARY:Happy Little Melodies
DESCRIPTION:Join us for music\, movement\, and memory-making with your little one in this cozy\, welcoming space! \n Reserve your spot before they’re gone: www.musictherapynow.net/happylittlemelodies
URL:https://happymediumbookscafe.com/events/happy-little-melodies-6/2026-10-15/
LOCATION:Happy Medium Books Cafe\, 2724 Park St\, Jacksonville\, FL\, 32205\, United States
ORGANIZER;CN="Dannielle Caldwell":MAILTO:info@musictherapynow.net
END:VEVENT
BEGIN:VEVENT
DTSTART;TZID=America/New_York:20261022T100000
DTEND;TZID=America/New_York:20261022T103000
DTSTAMP:20260425T030520
CREATED:20260120T001655Z
LAST-MODIFIED:20260316T153434Z
UID:10003576-1792663200-1792665000@happymediumbookscafe.com
SUMMARY:Happy Little Melodies
DESCRIPTION:Join us for music\, movement\, and memory-making with your little one in this cozy\, welcoming space! \n Reserve your spot before they’re gone: www.musictherapynow.net/happylittlemelodies
URL:https://happymediumbookscafe.com/events/happy-little-melodies-6/2026-10-22/
LOCATION:Happy Medium Books Cafe\, 2724 Park St\, Jacksonville\, FL\, 32205\, United States
ORGANIZER;CN="Dannielle Caldwell":MAILTO:info@musictherapynow.net
END:VEVENT
BEGIN:VEVENT
DTSTART;TZID=America/New_York:20261029T100000
DTEND;TZID=America/New_York:20261029T103000
DTSTAMP:20260425T030520
CREATED:20260120T001655Z
LAST-MODIFIED:20260316T153434Z
UID:10003577-1793268000-1793269800@happymediumbookscafe.com
SUMMARY:Happy Little Melodies
DESCRIPTION:Join us for music\, movement\, and memory-making with your little one in this cozy\, welcoming space! \n Reserve your spot before they’re gone: www.musictherapynow.net/happylittlemelodies
URL:https://happymediumbookscafe.com/events/happy-little-melodies-6/2026-10-29/
LOCATION:Happy Medium Books Cafe\, 2724 Park St\, Jacksonville\, FL\, 32205\, United States
ORGANIZER;CN="Dannielle Caldwell":MAILTO:info@musictherapynow.net
END:VEVENT
BEGIN:VEVENT
DTSTART;TZID=America/New_York:20261105T100000
DTEND;TZID=America/New_York:20261105T103000
DTSTAMP:20260425T030520
CREATED:20260120T001655Z
LAST-MODIFIED:20260316T153434Z
UID:10003578-1793872800-1793874600@happymediumbookscafe.com
SUMMARY:Happy Little Melodies
DESCRIPTION:Join us for music\, movement\, and memory-making with your little one in this cozy\, welcoming space! \n Reserve your spot before they’re gone: www.musictherapynow.net/happylittlemelodies
URL:https://happymediumbookscafe.com/events/happy-little-melodies-6/2026-11-05/
LOCATION:Happy Medium Books Cafe\, 2724 Park St\, Jacksonville\, FL\, 32205\, United States
ORGANIZER;CN="Dannielle Caldwell":MAILTO:info@musictherapynow.net
END:VEVENT
BEGIN:VEVENT
DTSTART;TZID=America/New_York:20261112T100000
DTEND;TZID=America/New_York:20261112T103000
DTSTAMP:20260425T030520
CREATED:20260120T001655Z
LAST-MODIFIED:20260316T153434Z
UID:10003579-1794477600-1794479400@happymediumbookscafe.com
SUMMARY:Happy Little Melodies
DESCRIPTION:Join us for music\, movement\, and memory-making with your little one in this cozy\, welcoming space! \n Reserve your spot before they’re gone: www.musictherapynow.net/happylittlemelodies
URL:https://happymediumbookscafe.com/events/happy-little-melodies-6/2026-11-12/
LOCATION:Happy Medium Books Cafe\, 2724 Park St\, Jacksonville\, FL\, 32205\, United States
ORGANIZER;CN="Dannielle Caldwell":MAILTO:info@musictherapynow.net
END:VEVENT
BEGIN:VEVENT
DTSTART;TZID=America/New_York:20261119T100000
DTEND;TZID=America/New_York:20261119T103000
DTSTAMP:20260425T030520
CREATED:20260120T001655Z
LAST-MODIFIED:20260316T153434Z
UID:10003580-1795082400-1795084200@happymediumbookscafe.com
SUMMARY:Happy Little Melodies
DESCRIPTION:Join us for music\, movement\, and memory-making with your little one in this cozy\, welcoming space! \n Reserve your spot before they’re gone: www.musictherapynow.net/happylittlemelodies
URL:https://happymediumbookscafe.com/events/happy-little-melodies-6/2026-11-19/
LOCATION:Happy Medium Books Cafe\, 2724 Park St\, Jacksonville\, FL\, 32205\, United States
ORGANIZER;CN="Dannielle Caldwell":MAILTO:info@musictherapynow.net
END:VEVENT
BEGIN:VEVENT
DTSTART;TZID=America/New_York:20261126T100000
DTEND;TZID=America/New_York:20261126T103000
DTSTAMP:20260425T030520
CREATED:20260120T001655Z
LAST-MODIFIED:20260316T153434Z
UID:10003581-1795687200-1795689000@happymediumbookscafe.com
SUMMARY:Happy Little Melodies
DESCRIPTION:Join us for music\, movement\, and memory-making with your little one in this cozy\, welcoming space! \n Reserve your spot before they’re gone: www.musictherapynow.net/happylittlemelodies
URL:https://happymediumbookscafe.com/events/happy-little-melodies-6/2026-11-26/
LOCATION:Happy Medium Books Cafe\, 2724 Park St\, Jacksonville\, FL\, 32205\, United States
ORGANIZER;CN="Dannielle Caldwell":MAILTO:info@musictherapynow.net
END:VEVENT
BEGIN:VEVENT
DTSTART;TZID=America/New_York:20261203T100000
DTEND;TZID=America/New_York:20261203T103000
DTSTAMP:20260425T030520
CREATED:20260120T001655Z
LAST-MODIFIED:20260316T153434Z
UID:10003582-1796292000-1796293800@happymediumbookscafe.com
SUMMARY:Happy Little Melodies
DESCRIPTION:Join us for music\, movement\, and memory-making with your little one in this cozy\, welcoming space! \n Reserve your spot before they’re gone: www.musictherapynow.net/happylittlemelodies
URL:https://happymediumbookscafe.com/events/happy-little-melodies-6/2026-12-03/
LOCATION:Happy Medium Books Cafe\, 2724 Park St\, Jacksonville\, FL\, 32205\, United States
ORGANIZER;CN="Dannielle Caldwell":MAILTO:info@musictherapynow.net
END:VEVENT
BEGIN:VEVENT
DTSTART;TZID=America/New_York:20261210T100000
DTEND;TZID=America/New_York:20261210T103000
DTSTAMP:20260425T030520
CREATED:20260120T001655Z
LAST-MODIFIED:20260316T153434Z
UID:10003583-1796896800-1796898600@happymediumbookscafe.com
SUMMARY:Happy Little Melodies
DESCRIPTION:Join us for music\, movement\, and memory-making with your little one in this cozy\, welcoming space! \n Reserve your spot before they’re gone: www.musictherapynow.net/happylittlemelodies
URL:https://happymediumbookscafe.com/events/happy-little-melodies-6/2026-12-10/
LOCATION:Happy Medium Books Cafe\, 2724 Park St\, Jacksonville\, FL\, 32205\, United States
ORGANIZER;CN="Dannielle Caldwell":MAILTO:info@musictherapynow.net
END:VEVENT
BEGIN:VEVENT
DTSTART;TZID=America/New_York:20261217T100000
DTEND;TZID=America/New_York:20261217T103000
DTSTAMP:20260425T030520
CREATED:20260120T001655Z
LAST-MODIFIED:20260316T153434Z
UID:10003584-1797501600-1797503400@happymediumbookscafe.com
SUMMARY:Happy Little Melodies
DESCRIPTION:Join us for music\, movement\, and memory-making with your little one in this cozy\, welcoming space! \n Reserve your spot before they’re gone: www.musictherapynow.net/happylittlemelodies
URL:https://happymediumbookscafe.com/events/happy-little-melodies-6/2026-12-17/
LOCATION:Happy Medium Books Cafe\, 2724 Park St\, Jacksonville\, FL\, 32205\, United States
ORGANIZER;CN="Dannielle Caldwell":MAILTO:info@musictherapynow.net
END:VEVENT
BEGIN:VEVENT
DTSTART;TZID=America/New_York:20261224T100000
DTEND;TZID=America/New_York:20261224T103000
DTSTAMP:20260425T030520
CREATED:20260120T001655Z
LAST-MODIFIED:20260316T153434Z
UID:10003585-1798106400-1798108200@happymediumbookscafe.com
SUMMARY:Happy Little Melodies
DESCRIPTION:Join us for music\, movement\, and memory-making with your little one in this cozy\, welcoming space! \n Reserve your spot before they’re gone: www.musictherapynow.net/happylittlemelodies
URL:https://happymediumbookscafe.com/events/happy-little-melodies-6/2026-12-24/
LOCATION:Happy Medium Books Cafe\, 2724 Park St\, Jacksonville\, FL\, 32205\, United States
ORGANIZER;CN="Dannielle Caldwell":MAILTO:info@musictherapynow.net
END:VEVENT
BEGIN:VEVENT
DTSTART;TZID=America/New_York:20261231T100000
DTEND;TZID=America/New_York:20261231T103000
DTSTAMP:20260425T030520
CREATED:20260120T001655Z
LAST-MODIFIED:20260316T153434Z
UID:10003586-1798711200-1798713000@happymediumbookscafe.com
SUMMARY:Happy Little Melodies
DESCRIPTION:Join us for music\, movement\, and memory-making with your little one in this cozy\, welcoming space! \n Reserve your spot before they’re gone: www.musictherapynow.net/happylittlemelodies
URL:https://happymediumbookscafe.com/events/happy-little-melodies-6/2026-12-31/
LOCATION:Happy Medium Books Cafe\, 2724 Park St\, Jacksonville\, FL\, 32205\, United States
ORGANIZER;CN="Dannielle Caldwell":MAILTO:info@musictherapynow.net
END:VEVENT
BEGIN:VEVENT
DTSTART;TZID=America/New_York:20270107T100000
DTEND;TZID=America/New_York:20270107T103000
DTSTAMP:20260425T030520
CREATED:20260120T001655Z
LAST-MODIFIED:20260316T153434Z
UID:10003587-1799316000-1799317800@happymediumbookscafe.com
SUMMARY:Happy Little Melodies
DESCRIPTION:Join us for music\, movement\, and memory-making with your little one in this cozy\, welcoming space! \n Reserve your spot before they’re gone: www.musictherapynow.net/happylittlemelodies
URL:https://happymediumbookscafe.com/events/happy-little-melodies-6/2027-01-07/
LOCATION:Happy Medium Books Cafe\, 2724 Park St\, Jacksonville\, FL\, 32205\, United States
ORGANIZER;CN="Dannielle Caldwell":MAILTO:info@musictherapynow.net
END:VEVENT
BEGIN:VEVENT
DTSTART;TZID=America/New_York:20270114T100000
DTEND;TZID=America/New_York:20270114T103000
DTSTAMP:20260425T030520
CREATED:20260120T001655Z
LAST-MODIFIED:20260316T153434Z
UID:10003588-1799920800-1799922600@happymediumbookscafe.com
SUMMARY:Happy Little Melodies
DESCRIPTION:Join us for music\, movement\, and memory-making with your little one in this cozy\, welcoming space! \n Reserve your spot before they’re gone: www.musictherapynow.net/happylittlemelodies
URL:https://happymediumbookscafe.com/events/happy-little-melodies-6/2027-01-14/
LOCATION:Happy Medium Books Cafe\, 2724 Park St\, Jacksonville\, FL\, 32205\, United States
ORGANIZER;CN="Dannielle Caldwell":MAILTO:info@musictherapynow.net
END:VEVENT
BEGIN:VEVENT
DTSTART;TZID=America/New_York:20270121T100000
DTEND;TZID=America/New_York:20270121T103000
DTSTAMP:20260425T030520
CREATED:20260120T001655Z
LAST-MODIFIED:20260316T153434Z
UID:10003589-1800525600-1800527400@happymediumbookscafe.com
SUMMARY:Happy Little Melodies
DESCRIPTION:Join us for music\, movement\, and memory-making with your little one in this cozy\, welcoming space! \n Reserve your spot before they’re gone: www.musictherapynow.net/happylittlemelodies
URL:https://happymediumbookscafe.com/events/happy-little-melodies-6/2027-01-21/
LOCATION:Happy Medium Books Cafe\, 2724 Park St\, Jacksonville\, FL\, 32205\, United States
ORGANIZER;CN="Dannielle Caldwell":MAILTO:info@musictherapynow.net
END:VEVENT
BEGIN:VEVENT
DTSTART;TZID=America/New_York:20270128T100000
DTEND;TZID=America/New_York:20270128T103000
DTSTAMP:20260425T030520
CREATED:20260120T001655Z
LAST-MODIFIED:20260316T153434Z
UID:10003590-1801130400-1801132200@happymediumbookscafe.com
SUMMARY:Happy Little Melodies
DESCRIPTION:Join us for music\, movement\, and memory-making with your little one in this cozy\, welcoming space! \n Reserve your spot before they’re gone: www.musictherapynow.net/happylittlemelodies
URL:https://happymediumbookscafe.com/events/happy-little-melodies-6/2027-01-28/
LOCATION:Happy Medium Books Cafe\, 2724 Park St\, Jacksonville\, FL\, 32205\, United States
ORGANIZER;CN="Dannielle Caldwell":MAILTO:info@musictherapynow.net
END:VEVENT
BEGIN:VEVENT
DTSTART;TZID=America/New_York:20270204T100000
DTEND;TZID=America/New_York:20270204T103000
DTSTAMP:20260425T030520
CREATED:20260120T001655Z
LAST-MODIFIED:20260316T153434Z
UID:10003591-1801735200-1801737000@happymediumbookscafe.com
SUMMARY:Happy Little Melodies
DESCRIPTION:Join us for music\, movement\, and memory-making with your little one in this cozy\, welcoming space! \n Reserve your spot before they’re gone: www.musictherapynow.net/happylittlemelodies
URL:https://happymediumbookscafe.com/events/happy-little-melodies-6/2027-02-04/
LOCATION:Happy Medium Books Cafe\, 2724 Park St\, Jacksonville\, FL\, 32205\, United States
ORGANIZER;CN="Dannielle Caldwell":MAILTO:info@musictherapynow.net
END:VEVENT
BEGIN:VEVENT
DTSTART;TZID=America/New_York:20270211T100000
DTEND;TZID=America/New_York:20270211T103000
DTSTAMP:20260425T030520
CREATED:20260120T001655Z
LAST-MODIFIED:20260316T153434Z
UID:10003592-1802340000-1802341800@happymediumbookscafe.com
SUMMARY:Happy Little Melodies
DESCRIPTION:Join us for music\, movement\, and memory-making with your little one in this cozy\, welcoming space! \n Reserve your spot before they’re gone: www.musictherapynow.net/happylittlemelodies
URL:https://happymediumbookscafe.com/events/happy-little-melodies-6/2027-02-11/
LOCATION:Happy Medium Books Cafe\, 2724 Park St\, Jacksonville\, FL\, 32205\, United States
ORGANIZER;CN="Dannielle Caldwell":MAILTO:info@musictherapynow.net
END:VEVENT
BEGIN:VEVENT
DTSTART;TZID=America/New_York:20270218T100000
DTEND;TZID=America/New_York:20270218T103000
DTSTAMP:20260425T030520
CREATED:20260120T001655Z
LAST-MODIFIED:20260316T153434Z
UID:10003593-1802944800-1802946600@happymediumbookscafe.com
SUMMARY:Happy Little Melodies
DESCRIPTION:Join us for music\, movement\, and memory-making with your little one in this cozy\, welcoming space! \n Reserve your spot before they’re gone: www.musictherapynow.net/happylittlemelodies
URL:https://happymediumbookscafe.com/events/happy-little-melodies-6/2027-02-18/
LOCATION:Happy Medium Books Cafe\, 2724 Park St\, Jacksonville\, FL\, 32205\, United States
ORGANIZER;CN="Dannielle Caldwell":MAILTO:info@musictherapynow.net
END:VEVENT
BEGIN:VEVENT
DTSTART;TZID=America/New_York:20270225T100000
DTEND;TZID=America/New_York:20270225T103000
DTSTAMP:20260425T030520
CREATED:20260120T001655Z
LAST-MODIFIED:20260316T153434Z
UID:10003594-1803549600-1803551400@happymediumbookscafe.com
SUMMARY:Happy Little Melodies
DESCRIPTION:Join us for music\, movement\, and memory-making with your little one in this cozy\, welcoming space! \n Reserve your spot before they’re gone: www.musictherapynow.net/happylittlemelodies
URL:https://happymediumbookscafe.com/events/happy-little-melodies-6/2027-02-25/
LOCATION:Happy Medium Books Cafe\, 2724 Park St\, Jacksonville\, FL\, 32205\, United States
ORGANIZER;CN="Dannielle Caldwell":MAILTO:info@musictherapynow.net
END:VEVENT
BEGIN:VEVENT
DTSTART;TZID=America/New_York:20270304T100000
DTEND;TZID=America/New_York:20270304T103000
DTSTAMP:20260425T030520
CREATED:20260120T001655Z
LAST-MODIFIED:20260316T153434Z
UID:10003595-1804154400-1804156200@happymediumbookscafe.com
SUMMARY:Happy Little Melodies
DESCRIPTION:Join us for music\, movement\, and memory-making with your little one in this cozy\, welcoming space! \n Reserve your spot before they’re gone: www.musictherapynow.net/happylittlemelodies
URL:https://happymediumbookscafe.com/events/happy-little-melodies-6/2027-03-04/
LOCATION:Happy Medium Books Cafe\, 2724 Park St\, Jacksonville\, FL\, 32205\, United States
ORGANIZER;CN="Dannielle Caldwell":MAILTO:info@musictherapynow.net
END:VEVENT
BEGIN:VEVENT
DTSTART;TZID=America/New_York:20270311T100000
DTEND;TZID=America/New_York:20270311T103000
DTSTAMP:20260425T030520
CREATED:20260120T001655Z
LAST-MODIFIED:20260316T153434Z
UID:10003596-1804759200-1804761000@happymediumbookscafe.com
SUMMARY:Happy Little Melodies
DESCRIPTION:Join us for music\, movement\, and memory-making with your little one in this cozy\, welcoming space! \n Reserve your spot before they’re gone: www.musictherapynow.net/happylittlemelodies
URL:https://happymediumbookscafe.com/events/happy-little-melodies-6/2027-03-11/
LOCATION:Happy Medium Books Cafe\, 2724 Park St\, Jacksonville\, FL\, 32205\, United States
ORGANIZER;CN="Dannielle Caldwell":MAILTO:info@musictherapynow.net
END:VEVENT
BEGIN:VEVENT
DTSTART;TZID=America/New_York:20270318T100000
DTEND;TZID=America/New_York:20270318T103000
DTSTAMP:20260425T030520
CREATED:20260120T001655Z
LAST-MODIFIED:20260316T153434Z
UID:10003597-1805364000-1805365800@happymediumbookscafe.com
SUMMARY:Happy Little Melodies
DESCRIPTION:Join us for music\, movement\, and memory-making with your little one in this cozy\, welcoming space! \n Reserve your spot before they’re gone: www.musictherapynow.net/happylittlemelodies
URL:https://happymediumbookscafe.com/events/happy-little-melodies-6/2027-03-18/
LOCATION:Happy Medium Books Cafe\, 2724 Park St\, Jacksonville\, FL\, 32205\, United States
ORGANIZER;CN="Dannielle Caldwell":MAILTO:info@musictherapynow.net
END:VEVENT
BEGIN:VEVENT
DTSTART;TZID=America/New_York:20270325T100000
DTEND;TZID=America/New_York:20270325T103000
DTSTAMP:20260425T030520
CREATED:20260120T001655Z
LAST-MODIFIED:20260316T153434Z
UID:10003598-1805968800-1805970600@happymediumbookscafe.com
SUMMARY:Happy Little Melodies
DESCRIPTION:Join us for music\, movement\, and memory-making with your little one in this cozy\, welcoming space! \n Reserve your spot before they’re gone: www.musictherapynow.net/happylittlemelodies
URL:https://happymediumbookscafe.com/events/happy-little-melodies-6/2027-03-25/
LOCATION:Happy Medium Books Cafe\, 2724 Park St\, Jacksonville\, FL\, 32205\, United States
ORGANIZER;CN="Dannielle Caldwell":MAILTO:info@musictherapynow.net
END:VEVENT
BEGIN:VEVENT
DTSTART;TZID=America/New_York:20270401T100000
DTEND;TZID=America/New_York:20270401T103000
DTSTAMP:20260425T030520
CREATED:20260120T001655Z
LAST-MODIFIED:20260316T153434Z
UID:10003599-1806573600-1806575400@happymediumbookscafe.com
SUMMARY:Happy Little Melodies
DESCRIPTION:Join us for music\, movement\, and memory-making with your little one in this cozy\, welcoming space! \n Reserve your spot before they’re gone: www.musictherapynow.net/happylittlemelodies
URL:https://happymediumbookscafe.com/events/happy-little-melodies-6/2027-04-01/
LOCATION:Happy Medium Books Cafe\, 2724 Park St\, Jacksonville\, FL\, 32205\, United States
ORGANIZER;CN="Dannielle Caldwell":MAILTO:info@musictherapynow.net
END:VEVENT
BEGIN:VEVENT
DTSTART;TZID=America/New_York:20270408T100000
DTEND;TZID=America/New_York:20270408T103000
DTSTAMP:20260425T030520
CREATED:20260120T001655Z
LAST-MODIFIED:20260316T153434Z
UID:10003600-1807178400-1807180200@happymediumbookscafe.com
SUMMARY:Happy Little Melodies
DESCRIPTION:Join us for music\, movement\, and memory-making with your little one in this cozy\, welcoming space! \n Reserve your spot before they’re gone: www.musictherapynow.net/happylittlemelodies
URL:https://happymediumbookscafe.com/events/happy-little-melodies-6/2027-04-08/
LOCATION:Happy Medium Books Cafe\, 2724 Park St\, Jacksonville\, FL\, 32205\, United States
ORGANIZER;CN="Dannielle Caldwell":MAILTO:info@musictherapynow.net
END:VEVENT
BEGIN:VEVENT
DTSTART;TZID=America/New_York:20270415T100000
DTEND;TZID=America/New_York:20270415T103000
DTSTAMP:20260425T030520
CREATED:20260120T001655Z
LAST-MODIFIED:20260316T153434Z
UID:10003601-1807783200-1807785000@happymediumbookscafe.com
SUMMARY:Happy Little Melodies
DESCRIPTION:Join us for music\, movement\, and memory-making with your little one in this cozy\, welcoming space! \n Reserve your spot before they’re gone: www.musictherapynow.net/happylittlemelodies
URL:https://happymediumbookscafe.com/events/happy-little-melodies-6/2027-04-15/
LOCATION:Happy Medium Books Cafe\, 2724 Park St\, Jacksonville\, FL\, 32205\, United States
ORGANIZER;CN="Dannielle Caldwell":MAILTO:info@musictherapynow.net
END:VEVENT
BEGIN:VEVENT
DTSTART;TZID=America/New_York:20270422T100000
DTEND;TZID=America/New_York:20270422T103000
DTSTAMP:20260425T030520
CREATED:20260120T001655Z
LAST-MODIFIED:20260316T153434Z
UID:10003602-1808388000-1808389800@happymediumbookscafe.com
SUMMARY:Happy Little Melodies
DESCRIPTION:Join us for music\, movement\, and memory-making with your little one in this cozy\, welcoming space! \n Reserve your spot before they’re gone: www.musictherapynow.net/happylittlemelodies
URL:https://happymediumbookscafe.com/events/happy-little-melodies-6/2027-04-22/
LOCATION:Happy Medium Books Cafe\, 2724 Park St\, Jacksonville\, FL\, 32205\, United States
ORGANIZER;CN="Dannielle Caldwell":MAILTO:info@musictherapynow.net
END:VEVENT
BEGIN:VEVENT
DTSTART;TZID=America/New_York:20270429T100000
DTEND;TZID=America/New_York:20270429T103000
DTSTAMP:20260425T030520
CREATED:20260120T001655Z
LAST-MODIFIED:20260316T153434Z
UID:10003603-1808992800-1808994600@happymediumbookscafe.com
SUMMARY:Happy Little Melodies
DESCRIPTION:Join us for music\, movement\, and memory-making with your little one in this cozy\, welcoming space! \n Reserve your spot before they’re gone: www.musictherapynow.net/happylittlemelodies
URL:https://happymediumbookscafe.com/events/happy-little-melodies-6/2027-04-29/
LOCATION:Happy Medium Books Cafe\, 2724 Park St\, Jacksonville\, FL\, 32205\, United States
ORGANIZER;CN="Dannielle Caldwell":MAILTO:info@musictherapynow.net
END:VEVENT
BEGIN:VEVENT
DTSTART;TZID=America/New_York:20270506T100000
DTEND;TZID=America/New_York:20270506T103000
DTSTAMP:20260425T030520
CREATED:20260120T001655Z
LAST-MODIFIED:20260316T153434Z
UID:10003604-1809597600-1809599400@happymediumbookscafe.com
SUMMARY:Happy Little Melodies
DESCRIPTION:Join us for music\, movement\, and memory-making with your little one in this cozy\, welcoming space! \n Reserve your spot before they’re gone: www.musictherapynow.net/happylittlemelodies
URL:https://happymediumbookscafe.com/events/happy-little-melodies-6/2027-05-06/
LOCATION:Happy Medium Books Cafe\, 2724 Park St\, Jacksonville\, FL\, 32205\, United States
ORGANIZER;CN="Dannielle Caldwell":MAILTO:info@musictherapynow.net
END:VEVENT
END:VCALENDAR