BEGIN:VCALENDAR
VERSION:2.0
PRODID:-//Best bookstore café in Jacksonville, FL | Happy Medium Books Café - ECPv6.15.11//NONSGML v1.0//EN
CALSCALE:GREGORIAN
METHOD:PUBLISH
X-WR-CALNAME:Best bookstore café in Jacksonville, FL | Happy Medium Books Café
X-ORIGINAL-URL:https://happymediumbookscafe.com
X-WR-CALDESC:Events for Best bookstore café in Jacksonville, FL | Happy Medium Books Café
REFRESH-INTERVAL;VALUE=DURATION:PT1H
X-Robots-Tag:noindex
X-PUBLISHED-TTL:PT1H
BEGIN:VTIMEZONE
TZID:America/New_York
BEGIN:DAYLIGHT
TZOFFSETFROM:-0500
TZOFFSETTO:-0400
TZNAME:EDT
DTSTART:20290311T070000
END:DAYLIGHT
BEGIN:STANDARD
TZOFFSETFROM:-0400
TZOFFSETTO:-0500
TZNAME:EST
DTSTART:20291104T060000
END:STANDARD
BEGIN:DAYLIGHT
TZOFFSETFROM:-0500
TZOFFSETTO:-0400
TZNAME:EDT
DTSTART:20300310T070000
END:DAYLIGHT
BEGIN:STANDARD
TZOFFSETFROM:-0400
TZOFFSETTO:-0500
TZNAME:EST
DTSTART:20301103T060000
END:STANDARD
BEGIN:DAYLIGHT
TZOFFSETFROM:-0500
TZOFFSETTO:-0400
TZNAME:EDT
DTSTART:20310309T070000
END:DAYLIGHT
BEGIN:STANDARD
TZOFFSETFROM:-0400
TZOFFSETTO:-0500
TZNAME:EST
DTSTART:20311102T060000
END:STANDARD
END:VTIMEZONE
BEGIN:VEVENT
DTSTART;TZID=America/New_York:20300328T100000
DTEND;TZID=America/New_York:20300328T103000
DTSTAMP:20260426T003746
CREATED:20260120T001655Z
LAST-MODIFIED:20260316T153434Z
UID:10003755-1900922400-1900924200@happymediumbookscafe.com
SUMMARY:Happy Little Melodies
DESCRIPTION:Join us for music\, movement\, and memory-making with your little one in this cozy\, welcoming space! \n Reserve your spot before they’re gone: www.musictherapynow.net/happylittlemelodies
URL:https://happymediumbookscafe.com/events/happy-little-melodies-6/2030-03-28/
LOCATION:Happy Medium Books Cafe\, 2724 Park St\, Jacksonville\, FL\, 32205\, United States
ORGANIZER;CN="Dannielle Caldwell":MAILTO:info@musictherapynow.net
END:VEVENT
BEGIN:VEVENT
DTSTART;TZID=America/New_York:20300404T100000
DTEND;TZID=America/New_York:20300404T103000
DTSTAMP:20260426T003746
CREATED:20260120T001655Z
LAST-MODIFIED:20260316T153434Z
UID:10003756-1901527200-1901529000@happymediumbookscafe.com
SUMMARY:Happy Little Melodies
DESCRIPTION:Join us for music\, movement\, and memory-making with your little one in this cozy\, welcoming space! \n Reserve your spot before they’re gone: www.musictherapynow.net/happylittlemelodies
URL:https://happymediumbookscafe.com/events/happy-little-melodies-6/2030-04-04/
LOCATION:Happy Medium Books Cafe\, 2724 Park St\, Jacksonville\, FL\, 32205\, United States
ORGANIZER;CN="Dannielle Caldwell":MAILTO:info@musictherapynow.net
END:VEVENT
BEGIN:VEVENT
DTSTART;TZID=America/New_York:20300411T100000
DTEND;TZID=America/New_York:20300411T103000
DTSTAMP:20260426T003746
CREATED:20260120T001655Z
LAST-MODIFIED:20260316T153434Z
UID:10003757-1902132000-1902133800@happymediumbookscafe.com
SUMMARY:Happy Little Melodies
DESCRIPTION:Join us for music\, movement\, and memory-making with your little one in this cozy\, welcoming space! \n Reserve your spot before they’re gone: www.musictherapynow.net/happylittlemelodies
URL:https://happymediumbookscafe.com/events/happy-little-melodies-6/2030-04-11/
LOCATION:Happy Medium Books Cafe\, 2724 Park St\, Jacksonville\, FL\, 32205\, United States
ORGANIZER;CN="Dannielle Caldwell":MAILTO:info@musictherapynow.net
END:VEVENT
BEGIN:VEVENT
DTSTART;TZID=America/New_York:20300418T100000
DTEND;TZID=America/New_York:20300418T103000
DTSTAMP:20260426T003746
CREATED:20260120T001655Z
LAST-MODIFIED:20260316T153434Z
UID:10003758-1902736800-1902738600@happymediumbookscafe.com
SUMMARY:Happy Little Melodies
DESCRIPTION:Join us for music\, movement\, and memory-making with your little one in this cozy\, welcoming space! \n Reserve your spot before they’re gone: www.musictherapynow.net/happylittlemelodies
URL:https://happymediumbookscafe.com/events/happy-little-melodies-6/2030-04-18/
LOCATION:Happy Medium Books Cafe\, 2724 Park St\, Jacksonville\, FL\, 32205\, United States
ORGANIZER;CN="Dannielle Caldwell":MAILTO:info@musictherapynow.net
END:VEVENT
BEGIN:VEVENT
DTSTART;TZID=America/New_York:20300425T100000
DTEND;TZID=America/New_York:20300425T103000
DTSTAMP:20260426T003746
CREATED:20260120T001655Z
LAST-MODIFIED:20260316T153434Z
UID:10003759-1903341600-1903343400@happymediumbookscafe.com
SUMMARY:Happy Little Melodies
DESCRIPTION:Join us for music\, movement\, and memory-making with your little one in this cozy\, welcoming space! \n Reserve your spot before they’re gone: www.musictherapynow.net/happylittlemelodies
URL:https://happymediumbookscafe.com/events/happy-little-melodies-6/2030-04-25/
LOCATION:Happy Medium Books Cafe\, 2724 Park St\, Jacksonville\, FL\, 32205\, United States
ORGANIZER;CN="Dannielle Caldwell":MAILTO:info@musictherapynow.net
END:VEVENT
BEGIN:VEVENT
DTSTART;TZID=America/New_York:20300502T100000
DTEND;TZID=America/New_York:20300502T103000
DTSTAMP:20260426T003746
CREATED:20260120T001655Z
LAST-MODIFIED:20260316T153434Z
UID:10003760-1903946400-1903948200@happymediumbookscafe.com
SUMMARY:Happy Little Melodies
DESCRIPTION:Join us for music\, movement\, and memory-making with your little one in this cozy\, welcoming space! \n Reserve your spot before they’re gone: www.musictherapynow.net/happylittlemelodies
URL:https://happymediumbookscafe.com/events/happy-little-melodies-6/2030-05-02/
LOCATION:Happy Medium Books Cafe\, 2724 Park St\, Jacksonville\, FL\, 32205\, United States
ORGANIZER;CN="Dannielle Caldwell":MAILTO:info@musictherapynow.net
END:VEVENT
BEGIN:VEVENT
DTSTART;TZID=America/New_York:20300509T100000
DTEND;TZID=America/New_York:20300509T103000
DTSTAMP:20260426T003746
CREATED:20260120T001655Z
LAST-MODIFIED:20260316T153434Z
UID:10003761-1904551200-1904553000@happymediumbookscafe.com
SUMMARY:Happy Little Melodies
DESCRIPTION:Join us for music\, movement\, and memory-making with your little one in this cozy\, welcoming space! \n Reserve your spot before they’re gone: www.musictherapynow.net/happylittlemelodies
URL:https://happymediumbookscafe.com/events/happy-little-melodies-6/2030-05-09/
LOCATION:Happy Medium Books Cafe\, 2724 Park St\, Jacksonville\, FL\, 32205\, United States
ORGANIZER;CN="Dannielle Caldwell":MAILTO:info@musictherapynow.net
END:VEVENT
BEGIN:VEVENT
DTSTART;TZID=America/New_York:20300516T100000
DTEND;TZID=America/New_York:20300516T103000
DTSTAMP:20260426T003746
CREATED:20260120T001655Z
LAST-MODIFIED:20260316T153434Z
UID:10003762-1905156000-1905157800@happymediumbookscafe.com
SUMMARY:Happy Little Melodies
DESCRIPTION:Join us for music\, movement\, and memory-making with your little one in this cozy\, welcoming space! \n Reserve your spot before they’re gone: www.musictherapynow.net/happylittlemelodies
URL:https://happymediumbookscafe.com/events/happy-little-melodies-6/2030-05-16/
LOCATION:Happy Medium Books Cafe\, 2724 Park St\, Jacksonville\, FL\, 32205\, United States
ORGANIZER;CN="Dannielle Caldwell":MAILTO:info@musictherapynow.net
END:VEVENT
BEGIN:VEVENT
DTSTART;TZID=America/New_York:20300523T100000
DTEND;TZID=America/New_York:20300523T103000
DTSTAMP:20260426T003746
CREATED:20260120T001655Z
LAST-MODIFIED:20260316T153434Z
UID:10003763-1905760800-1905762600@happymediumbookscafe.com
SUMMARY:Happy Little Melodies
DESCRIPTION:Join us for music\, movement\, and memory-making with your little one in this cozy\, welcoming space! \n Reserve your spot before they’re gone: www.musictherapynow.net/happylittlemelodies
URL:https://happymediumbookscafe.com/events/happy-little-melodies-6/2030-05-23/
LOCATION:Happy Medium Books Cafe\, 2724 Park St\, Jacksonville\, FL\, 32205\, United States
ORGANIZER;CN="Dannielle Caldwell":MAILTO:info@musictherapynow.net
END:VEVENT
BEGIN:VEVENT
DTSTART;TZID=America/New_York:20300530T100000
DTEND;TZID=America/New_York:20300530T103000
DTSTAMP:20260426T003746
CREATED:20260120T001655Z
LAST-MODIFIED:20260316T153434Z
UID:10003764-1906365600-1906367400@happymediumbookscafe.com
SUMMARY:Happy Little Melodies
DESCRIPTION:Join us for music\, movement\, and memory-making with your little one in this cozy\, welcoming space! \n Reserve your spot before they’re gone: www.musictherapynow.net/happylittlemelodies
URL:https://happymediumbookscafe.com/events/happy-little-melodies-6/2030-05-30/
LOCATION:Happy Medium Books Cafe\, 2724 Park St\, Jacksonville\, FL\, 32205\, United States
ORGANIZER;CN="Dannielle Caldwell":MAILTO:info@musictherapynow.net
END:VEVENT
BEGIN:VEVENT
DTSTART;TZID=America/New_York:20300606T100000
DTEND;TZID=America/New_York:20300606T103000
DTSTAMP:20260426T003746
CREATED:20260120T001655Z
LAST-MODIFIED:20260316T153434Z
UID:10003765-1906970400-1906972200@happymediumbookscafe.com
SUMMARY:Happy Little Melodies
DESCRIPTION:Join us for music\, movement\, and memory-making with your little one in this cozy\, welcoming space! \n Reserve your spot before they’re gone: www.musictherapynow.net/happylittlemelodies
URL:https://happymediumbookscafe.com/events/happy-little-melodies-6/2030-06-06/
LOCATION:Happy Medium Books Cafe\, 2724 Park St\, Jacksonville\, FL\, 32205\, United States
ORGANIZER;CN="Dannielle Caldwell":MAILTO:info@musictherapynow.net
END:VEVENT
BEGIN:VEVENT
DTSTART;TZID=America/New_York:20300613T100000
DTEND;TZID=America/New_York:20300613T103000
DTSTAMP:20260426T003746
CREATED:20260120T001655Z
LAST-MODIFIED:20260316T153434Z
UID:10003766-1907575200-1907577000@happymediumbookscafe.com
SUMMARY:Happy Little Melodies
DESCRIPTION:Join us for music\, movement\, and memory-making with your little one in this cozy\, welcoming space! \n Reserve your spot before they’re gone: www.musictherapynow.net/happylittlemelodies
URL:https://happymediumbookscafe.com/events/happy-little-melodies-6/2030-06-13/
LOCATION:Happy Medium Books Cafe\, 2724 Park St\, Jacksonville\, FL\, 32205\, United States
ORGANIZER;CN="Dannielle Caldwell":MAILTO:info@musictherapynow.net
END:VEVENT
BEGIN:VEVENT
DTSTART;TZID=America/New_York:20300620T100000
DTEND;TZID=America/New_York:20300620T103000
DTSTAMP:20260426T003746
CREATED:20260120T001655Z
LAST-MODIFIED:20260316T153434Z
UID:10003767-1908180000-1908181800@happymediumbookscafe.com
SUMMARY:Happy Little Melodies
DESCRIPTION:Join us for music\, movement\, and memory-making with your little one in this cozy\, welcoming space! \n Reserve your spot before they’re gone: www.musictherapynow.net/happylittlemelodies
URL:https://happymediumbookscafe.com/events/happy-little-melodies-6/2030-06-20/
LOCATION:Happy Medium Books Cafe\, 2724 Park St\, Jacksonville\, FL\, 32205\, United States
ORGANIZER;CN="Dannielle Caldwell":MAILTO:info@musictherapynow.net
END:VEVENT
BEGIN:VEVENT
DTSTART;TZID=America/New_York:20300627T100000
DTEND;TZID=America/New_York:20300627T103000
DTSTAMP:20260426T003746
CREATED:20260120T001655Z
LAST-MODIFIED:20260316T153434Z
UID:10003768-1908784800-1908786600@happymediumbookscafe.com
SUMMARY:Happy Little Melodies
DESCRIPTION:Join us for music\, movement\, and memory-making with your little one in this cozy\, welcoming space! \n Reserve your spot before they’re gone: www.musictherapynow.net/happylittlemelodies
URL:https://happymediumbookscafe.com/events/happy-little-melodies-6/2030-06-27/
LOCATION:Happy Medium Books Cafe\, 2724 Park St\, Jacksonville\, FL\, 32205\, United States
ORGANIZER;CN="Dannielle Caldwell":MAILTO:info@musictherapynow.net
END:VEVENT
BEGIN:VEVENT
DTSTART;TZID=America/New_York:20300704T100000
DTEND;TZID=America/New_York:20300704T103000
DTSTAMP:20260426T003746
CREATED:20260120T001655Z
LAST-MODIFIED:20260316T153434Z
UID:10003769-1909389600-1909391400@happymediumbookscafe.com
SUMMARY:Happy Little Melodies
DESCRIPTION:Join us for music\, movement\, and memory-making with your little one in this cozy\, welcoming space! \n Reserve your spot before they’re gone: www.musictherapynow.net/happylittlemelodies
URL:https://happymediumbookscafe.com/events/happy-little-melodies-6/2030-07-04/
LOCATION:Happy Medium Books Cafe\, 2724 Park St\, Jacksonville\, FL\, 32205\, United States
ORGANIZER;CN="Dannielle Caldwell":MAILTO:info@musictherapynow.net
END:VEVENT
BEGIN:VEVENT
DTSTART;TZID=America/New_York:20300711T100000
DTEND;TZID=America/New_York:20300711T103000
DTSTAMP:20260426T003746
CREATED:20260120T001655Z
LAST-MODIFIED:20260316T153434Z
UID:10003770-1909994400-1909996200@happymediumbookscafe.com
SUMMARY:Happy Little Melodies
DESCRIPTION:Join us for music\, movement\, and memory-making with your little one in this cozy\, welcoming space! \n Reserve your spot before they’re gone: www.musictherapynow.net/happylittlemelodies
URL:https://happymediumbookscafe.com/events/happy-little-melodies-6/2030-07-11/
LOCATION:Happy Medium Books Cafe\, 2724 Park St\, Jacksonville\, FL\, 32205\, United States
ORGANIZER;CN="Dannielle Caldwell":MAILTO:info@musictherapynow.net
END:VEVENT
BEGIN:VEVENT
DTSTART;TZID=America/New_York:20300718T100000
DTEND;TZID=America/New_York:20300718T103000
DTSTAMP:20260426T003746
CREATED:20260120T001655Z
LAST-MODIFIED:20260316T153434Z
UID:10003771-1910599200-1910601000@happymediumbookscafe.com
SUMMARY:Happy Little Melodies
DESCRIPTION:Join us for music\, movement\, and memory-making with your little one in this cozy\, welcoming space! \n Reserve your spot before they’re gone: www.musictherapynow.net/happylittlemelodies
URL:https://happymediumbookscafe.com/events/happy-little-melodies-6/2030-07-18/
LOCATION:Happy Medium Books Cafe\, 2724 Park St\, Jacksonville\, FL\, 32205\, United States
ORGANIZER;CN="Dannielle Caldwell":MAILTO:info@musictherapynow.net
END:VEVENT
BEGIN:VEVENT
DTSTART;TZID=America/New_York:20300725T100000
DTEND;TZID=America/New_York:20300725T103000
DTSTAMP:20260426T003746
CREATED:20260120T001655Z
LAST-MODIFIED:20260316T153434Z
UID:10003772-1911204000-1911205800@happymediumbookscafe.com
SUMMARY:Happy Little Melodies
DESCRIPTION:Join us for music\, movement\, and memory-making with your little one in this cozy\, welcoming space! \n Reserve your spot before they’re gone: www.musictherapynow.net/happylittlemelodies
URL:https://happymediumbookscafe.com/events/happy-little-melodies-6/2030-07-25/
LOCATION:Happy Medium Books Cafe\, 2724 Park St\, Jacksonville\, FL\, 32205\, United States
ORGANIZER;CN="Dannielle Caldwell":MAILTO:info@musictherapynow.net
END:VEVENT
BEGIN:VEVENT
DTSTART;TZID=America/New_York:20300801T100000
DTEND;TZID=America/New_York:20300801T103000
DTSTAMP:20260426T003746
CREATED:20260120T001655Z
LAST-MODIFIED:20260316T153434Z
UID:10003773-1911808800-1911810600@happymediumbookscafe.com
SUMMARY:Happy Little Melodies
DESCRIPTION:Join us for music\, movement\, and memory-making with your little one in this cozy\, welcoming space! \n Reserve your spot before they’re gone: www.musictherapynow.net/happylittlemelodies
URL:https://happymediumbookscafe.com/events/happy-little-melodies-6/2030-08-01/
LOCATION:Happy Medium Books Cafe\, 2724 Park St\, Jacksonville\, FL\, 32205\, United States
ORGANIZER;CN="Dannielle Caldwell":MAILTO:info@musictherapynow.net
END:VEVENT
BEGIN:VEVENT
DTSTART;TZID=America/New_York:20300808T100000
DTEND;TZID=America/New_York:20300808T103000
DTSTAMP:20260426T003746
CREATED:20260120T001655Z
LAST-MODIFIED:20260316T153434Z
UID:10003774-1912413600-1912415400@happymediumbookscafe.com
SUMMARY:Happy Little Melodies
DESCRIPTION:Join us for music\, movement\, and memory-making with your little one in this cozy\, welcoming space! \n Reserve your spot before they’re gone: www.musictherapynow.net/happylittlemelodies
URL:https://happymediumbookscafe.com/events/happy-little-melodies-6/2030-08-08/
LOCATION:Happy Medium Books Cafe\, 2724 Park St\, Jacksonville\, FL\, 32205\, United States
ORGANIZER;CN="Dannielle Caldwell":MAILTO:info@musictherapynow.net
END:VEVENT
BEGIN:VEVENT
DTSTART;TZID=America/New_York:20300815T100000
DTEND;TZID=America/New_York:20300815T103000
DTSTAMP:20260426T003746
CREATED:20260120T001655Z
LAST-MODIFIED:20260316T153434Z
UID:10003775-1913018400-1913020200@happymediumbookscafe.com
SUMMARY:Happy Little Melodies
DESCRIPTION:Join us for music\, movement\, and memory-making with your little one in this cozy\, welcoming space! \n Reserve your spot before they’re gone: www.musictherapynow.net/happylittlemelodies
URL:https://happymediumbookscafe.com/events/happy-little-melodies-6/2030-08-15/
LOCATION:Happy Medium Books Cafe\, 2724 Park St\, Jacksonville\, FL\, 32205\, United States
ORGANIZER;CN="Dannielle Caldwell":MAILTO:info@musictherapynow.net
END:VEVENT
BEGIN:VEVENT
DTSTART;TZID=America/New_York:20300822T100000
DTEND;TZID=America/New_York:20300822T103000
DTSTAMP:20260426T003746
CREATED:20260120T001655Z
LAST-MODIFIED:20260316T153434Z
UID:10003776-1913623200-1913625000@happymediumbookscafe.com
SUMMARY:Happy Little Melodies
DESCRIPTION:Join us for music\, movement\, and memory-making with your little one in this cozy\, welcoming space! \n Reserve your spot before they’re gone: www.musictherapynow.net/happylittlemelodies
URL:https://happymediumbookscafe.com/events/happy-little-melodies-6/2030-08-22/
LOCATION:Happy Medium Books Cafe\, 2724 Park St\, Jacksonville\, FL\, 32205\, United States
ORGANIZER;CN="Dannielle Caldwell":MAILTO:info@musictherapynow.net
END:VEVENT
BEGIN:VEVENT
DTSTART;TZID=America/New_York:20300829T100000
DTEND;TZID=America/New_York:20300829T103000
DTSTAMP:20260426T003746
CREATED:20260120T001655Z
LAST-MODIFIED:20260316T153434Z
UID:10003777-1914228000-1914229800@happymediumbookscafe.com
SUMMARY:Happy Little Melodies
DESCRIPTION:Join us for music\, movement\, and memory-making with your little one in this cozy\, welcoming space! \n Reserve your spot before they’re gone: www.musictherapynow.net/happylittlemelodies
URL:https://happymediumbookscafe.com/events/happy-little-melodies-6/2030-08-29/
LOCATION:Happy Medium Books Cafe\, 2724 Park St\, Jacksonville\, FL\, 32205\, United States
ORGANIZER;CN="Dannielle Caldwell":MAILTO:info@musictherapynow.net
END:VEVENT
BEGIN:VEVENT
DTSTART;TZID=America/New_York:20300905T100000
DTEND;TZID=America/New_York:20300905T103000
DTSTAMP:20260426T003746
CREATED:20260120T001655Z
LAST-MODIFIED:20260316T153434Z
UID:10003778-1914832800-1914834600@happymediumbookscafe.com
SUMMARY:Happy Little Melodies
DESCRIPTION:Join us for music\, movement\, and memory-making with your little one in this cozy\, welcoming space! \n Reserve your spot before they’re gone: www.musictherapynow.net/happylittlemelodies
URL:https://happymediumbookscafe.com/events/happy-little-melodies-6/2030-09-05/
LOCATION:Happy Medium Books Cafe\, 2724 Park St\, Jacksonville\, FL\, 32205\, United States
ORGANIZER;CN="Dannielle Caldwell":MAILTO:info@musictherapynow.net
END:VEVENT
BEGIN:VEVENT
DTSTART;TZID=America/New_York:20300912T100000
DTEND;TZID=America/New_York:20300912T103000
DTSTAMP:20260426T003746
CREATED:20260120T001655Z
LAST-MODIFIED:20260316T153434Z
UID:10003779-1915437600-1915439400@happymediumbookscafe.com
SUMMARY:Happy Little Melodies
DESCRIPTION:Join us for music\, movement\, and memory-making with your little one in this cozy\, welcoming space! \n Reserve your spot before they’re gone: www.musictherapynow.net/happylittlemelodies
URL:https://happymediumbookscafe.com/events/happy-little-melodies-6/2030-09-12/
LOCATION:Happy Medium Books Cafe\, 2724 Park St\, Jacksonville\, FL\, 32205\, United States
ORGANIZER;CN="Dannielle Caldwell":MAILTO:info@musictherapynow.net
END:VEVENT
BEGIN:VEVENT
DTSTART;TZID=America/New_York:20300919T100000
DTEND;TZID=America/New_York:20300919T103000
DTSTAMP:20260426T003747
CREATED:20260120T001655Z
LAST-MODIFIED:20260316T153434Z
UID:10003780-1916042400-1916044200@happymediumbookscafe.com
SUMMARY:Happy Little Melodies
DESCRIPTION:Join us for music\, movement\, and memory-making with your little one in this cozy\, welcoming space! \n Reserve your spot before they’re gone: www.musictherapynow.net/happylittlemelodies
URL:https://happymediumbookscafe.com/events/happy-little-melodies-6/2030-09-19/
LOCATION:Happy Medium Books Cafe\, 2724 Park St\, Jacksonville\, FL\, 32205\, United States
ORGANIZER;CN="Dannielle Caldwell":MAILTO:info@musictherapynow.net
END:VEVENT
BEGIN:VEVENT
DTSTART;TZID=America/New_York:20300926T100000
DTEND;TZID=America/New_York:20300926T103000
DTSTAMP:20260426T003747
CREATED:20260120T001655Z
LAST-MODIFIED:20260316T153434Z
UID:10003781-1916647200-1916649000@happymediumbookscafe.com
SUMMARY:Happy Little Melodies
DESCRIPTION:Join us for music\, movement\, and memory-making with your little one in this cozy\, welcoming space! \n Reserve your spot before they’re gone: www.musictherapynow.net/happylittlemelodies
URL:https://happymediumbookscafe.com/events/happy-little-melodies-6/2030-09-26/
LOCATION:Happy Medium Books Cafe\, 2724 Park St\, Jacksonville\, FL\, 32205\, United States
ORGANIZER;CN="Dannielle Caldwell":MAILTO:info@musictherapynow.net
END:VEVENT
BEGIN:VEVENT
DTSTART;TZID=America/New_York:20301003T100000
DTEND;TZID=America/New_York:20301003T103000
DTSTAMP:20260426T003747
CREATED:20260120T001655Z
LAST-MODIFIED:20260316T153434Z
UID:10003782-1917252000-1917253800@happymediumbookscafe.com
SUMMARY:Happy Little Melodies
DESCRIPTION:Join us for music\, movement\, and memory-making with your little one in this cozy\, welcoming space! \n Reserve your spot before they’re gone: www.musictherapynow.net/happylittlemelodies
URL:https://happymediumbookscafe.com/events/happy-little-melodies-6/2030-10-03/
LOCATION:Happy Medium Books Cafe\, 2724 Park St\, Jacksonville\, FL\, 32205\, United States
ORGANIZER;CN="Dannielle Caldwell":MAILTO:info@musictherapynow.net
END:VEVENT
BEGIN:VEVENT
DTSTART;TZID=America/New_York:20301010T100000
DTEND;TZID=America/New_York:20301010T103000
DTSTAMP:20260426T003747
CREATED:20260120T001655Z
LAST-MODIFIED:20260316T153434Z
UID:10003783-1917856800-1917858600@happymediumbookscafe.com
SUMMARY:Happy Little Melodies
DESCRIPTION:Join us for music\, movement\, and memory-making with your little one in this cozy\, welcoming space! \n Reserve your spot before they’re gone: www.musictherapynow.net/happylittlemelodies
URL:https://happymediumbookscafe.com/events/happy-little-melodies-6/2030-10-10/
LOCATION:Happy Medium Books Cafe\, 2724 Park St\, Jacksonville\, FL\, 32205\, United States
ORGANIZER;CN="Dannielle Caldwell":MAILTO:info@musictherapynow.net
END:VEVENT
BEGIN:VEVENT
DTSTART;TZID=America/New_York:20301017T100000
DTEND;TZID=America/New_York:20301017T103000
DTSTAMP:20260426T003747
CREATED:20260120T001655Z
LAST-MODIFIED:20260316T153434Z
UID:10003784-1918461600-1918463400@happymediumbookscafe.com
SUMMARY:Happy Little Melodies
DESCRIPTION:Join us for music\, movement\, and memory-making with your little one in this cozy\, welcoming space! \n Reserve your spot before they’re gone: www.musictherapynow.net/happylittlemelodies
URL:https://happymediumbookscafe.com/events/happy-little-melodies-6/2030-10-17/
LOCATION:Happy Medium Books Cafe\, 2724 Park St\, Jacksonville\, FL\, 32205\, United States
ORGANIZER;CN="Dannielle Caldwell":MAILTO:info@musictherapynow.net
END:VEVENT
END:VCALENDAR