BEGIN:VCALENDAR
VERSION:2.0
PRODID:-//Best bookstore café in Jacksonville, FL | Happy Medium Books Café - ECPv6.15.11//NONSGML v1.0//EN
CALSCALE:GREGORIAN
METHOD:PUBLISH
X-WR-CALNAME:Best bookstore café in Jacksonville, FL | Happy Medium Books Café
X-ORIGINAL-URL:https://happymediumbookscafe.com
X-WR-CALDESC:Events for Best bookstore café in Jacksonville, FL | Happy Medium Books Café
REFRESH-INTERVAL;VALUE=DURATION:PT1H
X-Robots-Tag:noindex
X-PUBLISHED-TTL:PT1H
BEGIN:VTIMEZONE
TZID:America/New_York
BEGIN:DAYLIGHT
TZOFFSETFROM:-0500
TZOFFSETTO:-0400
TZNAME:EDT
DTSTART:20280312T070000
END:DAYLIGHT
BEGIN:STANDARD
TZOFFSETFROM:-0400
TZOFFSETTO:-0500
TZNAME:EST
DTSTART:20281105T060000
END:STANDARD
BEGIN:DAYLIGHT
TZOFFSETFROM:-0500
TZOFFSETTO:-0400
TZNAME:EDT
DTSTART:20290311T070000
END:DAYLIGHT
BEGIN:STANDARD
TZOFFSETFROM:-0400
TZOFFSETTO:-0500
TZNAME:EST
DTSTART:20291104T060000
END:STANDARD
BEGIN:DAYLIGHT
TZOFFSETFROM:-0500
TZOFFSETTO:-0400
TZNAME:EDT
DTSTART:20300310T070000
END:DAYLIGHT
BEGIN:STANDARD
TZOFFSETFROM:-0400
TZOFFSETTO:-0500
TZNAME:EST
DTSTART:20301103T060000
END:STANDARD
BEGIN:DAYLIGHT
TZOFFSETFROM:-0500
TZOFFSETTO:-0400
TZNAME:EDT
DTSTART:20310309T070000
END:DAYLIGHT
BEGIN:STANDARD
TZOFFSETFROM:-0400
TZOFFSETTO:-0500
TZNAME:EST
DTSTART:20311102T060000
END:STANDARD
END:VTIMEZONE
BEGIN:VEVENT
DTSTART;TZID=America/New_York:20291011T100000
DTEND;TZID=America/New_York:20291011T103000
DTSTAMP:20260425T215307
CREATED:20260120T001655Z
LAST-MODIFIED:20260316T153434Z
UID:10003731-1886407200-1886409000@happymediumbookscafe.com
SUMMARY:Happy Little Melodies
DESCRIPTION:Join us for music\, movement\, and memory-making with your little one in this cozy\, welcoming space! \n Reserve your spot before they’re gone: www.musictherapynow.net/happylittlemelodies
URL:https://happymediumbookscafe.com/events/happy-little-melodies-6/2029-10-11/
LOCATION:Happy Medium Books Cafe\, 2724 Park St\, Jacksonville\, FL\, 32205\, United States
ORGANIZER;CN="Dannielle Caldwell":MAILTO:info@musictherapynow.net
END:VEVENT
BEGIN:VEVENT
DTSTART;TZID=America/New_York:20291018T100000
DTEND;TZID=America/New_York:20291018T103000
DTSTAMP:20260425T215307
CREATED:20260120T001655Z
LAST-MODIFIED:20260316T153434Z
UID:10003732-1887012000-1887013800@happymediumbookscafe.com
SUMMARY:Happy Little Melodies
DESCRIPTION:Join us for music\, movement\, and memory-making with your little one in this cozy\, welcoming space! \n Reserve your spot before they’re gone: www.musictherapynow.net/happylittlemelodies
URL:https://happymediumbookscafe.com/events/happy-little-melodies-6/2029-10-18/
LOCATION:Happy Medium Books Cafe\, 2724 Park St\, Jacksonville\, FL\, 32205\, United States
ORGANIZER;CN="Dannielle Caldwell":MAILTO:info@musictherapynow.net
END:VEVENT
BEGIN:VEVENT
DTSTART;TZID=America/New_York:20291025T100000
DTEND;TZID=America/New_York:20291025T103000
DTSTAMP:20260425T215307
CREATED:20260120T001655Z
LAST-MODIFIED:20260316T153434Z
UID:10003733-1887616800-1887618600@happymediumbookscafe.com
SUMMARY:Happy Little Melodies
DESCRIPTION:Join us for music\, movement\, and memory-making with your little one in this cozy\, welcoming space! \n Reserve your spot before they’re gone: www.musictherapynow.net/happylittlemelodies
URL:https://happymediumbookscafe.com/events/happy-little-melodies-6/2029-10-25/
LOCATION:Happy Medium Books Cafe\, 2724 Park St\, Jacksonville\, FL\, 32205\, United States
ORGANIZER;CN="Dannielle Caldwell":MAILTO:info@musictherapynow.net
END:VEVENT
BEGIN:VEVENT
DTSTART;TZID=America/New_York:20291101T100000
DTEND;TZID=America/New_York:20291101T103000
DTSTAMP:20260425T215307
CREATED:20260120T001655Z
LAST-MODIFIED:20260316T153434Z
UID:10003734-1888221600-1888223400@happymediumbookscafe.com
SUMMARY:Happy Little Melodies
DESCRIPTION:Join us for music\, movement\, and memory-making with your little one in this cozy\, welcoming space! \n Reserve your spot before they’re gone: www.musictherapynow.net/happylittlemelodies
URL:https://happymediumbookscafe.com/events/happy-little-melodies-6/2029-11-01/
LOCATION:Happy Medium Books Cafe\, 2724 Park St\, Jacksonville\, FL\, 32205\, United States
ORGANIZER;CN="Dannielle Caldwell":MAILTO:info@musictherapynow.net
END:VEVENT
BEGIN:VEVENT
DTSTART;TZID=America/New_York:20291108T100000
DTEND;TZID=America/New_York:20291108T103000
DTSTAMP:20260425T215307
CREATED:20260120T001655Z
LAST-MODIFIED:20260316T153434Z
UID:10003735-1888826400-1888828200@happymediumbookscafe.com
SUMMARY:Happy Little Melodies
DESCRIPTION:Join us for music\, movement\, and memory-making with your little one in this cozy\, welcoming space! \n Reserve your spot before they’re gone: www.musictherapynow.net/happylittlemelodies
URL:https://happymediumbookscafe.com/events/happy-little-melodies-6/2029-11-08/
LOCATION:Happy Medium Books Cafe\, 2724 Park St\, Jacksonville\, FL\, 32205\, United States
ORGANIZER;CN="Dannielle Caldwell":MAILTO:info@musictherapynow.net
END:VEVENT
BEGIN:VEVENT
DTSTART;TZID=America/New_York:20291115T100000
DTEND;TZID=America/New_York:20291115T103000
DTSTAMP:20260425T215307
CREATED:20260120T001655Z
LAST-MODIFIED:20260316T153434Z
UID:10003736-1889431200-1889433000@happymediumbookscafe.com
SUMMARY:Happy Little Melodies
DESCRIPTION:Join us for music\, movement\, and memory-making with your little one in this cozy\, welcoming space! \n Reserve your spot before they’re gone: www.musictherapynow.net/happylittlemelodies
URL:https://happymediumbookscafe.com/events/happy-little-melodies-6/2029-11-15/
LOCATION:Happy Medium Books Cafe\, 2724 Park St\, Jacksonville\, FL\, 32205\, United States
ORGANIZER;CN="Dannielle Caldwell":MAILTO:info@musictherapynow.net
END:VEVENT
BEGIN:VEVENT
DTSTART;TZID=America/New_York:20291122T100000
DTEND;TZID=America/New_York:20291122T103000
DTSTAMP:20260425T215307
CREATED:20260120T001655Z
LAST-MODIFIED:20260316T153434Z
UID:10003737-1890036000-1890037800@happymediumbookscafe.com
SUMMARY:Happy Little Melodies
DESCRIPTION:Join us for music\, movement\, and memory-making with your little one in this cozy\, welcoming space! \n Reserve your spot before they’re gone: www.musictherapynow.net/happylittlemelodies
URL:https://happymediumbookscafe.com/events/happy-little-melodies-6/2029-11-22/
LOCATION:Happy Medium Books Cafe\, 2724 Park St\, Jacksonville\, FL\, 32205\, United States
ORGANIZER;CN="Dannielle Caldwell":MAILTO:info@musictherapynow.net
END:VEVENT
BEGIN:VEVENT
DTSTART;TZID=America/New_York:20291129T100000
DTEND;TZID=America/New_York:20291129T103000
DTSTAMP:20260425T215307
CREATED:20260120T001655Z
LAST-MODIFIED:20260316T153434Z
UID:10003738-1890640800-1890642600@happymediumbookscafe.com
SUMMARY:Happy Little Melodies
DESCRIPTION:Join us for music\, movement\, and memory-making with your little one in this cozy\, welcoming space! \n Reserve your spot before they’re gone: www.musictherapynow.net/happylittlemelodies
URL:https://happymediumbookscafe.com/events/happy-little-melodies-6/2029-11-29/
LOCATION:Happy Medium Books Cafe\, 2724 Park St\, Jacksonville\, FL\, 32205\, United States
ORGANIZER;CN="Dannielle Caldwell":MAILTO:info@musictherapynow.net
END:VEVENT
BEGIN:VEVENT
DTSTART;TZID=America/New_York:20291206T100000
DTEND;TZID=America/New_York:20291206T103000
DTSTAMP:20260425T215307
CREATED:20260120T001655Z
LAST-MODIFIED:20260316T153434Z
UID:10003739-1891245600-1891247400@happymediumbookscafe.com
SUMMARY:Happy Little Melodies
DESCRIPTION:Join us for music\, movement\, and memory-making with your little one in this cozy\, welcoming space! \n Reserve your spot before they’re gone: www.musictherapynow.net/happylittlemelodies
URL:https://happymediumbookscafe.com/events/happy-little-melodies-6/2029-12-06/
LOCATION:Happy Medium Books Cafe\, 2724 Park St\, Jacksonville\, FL\, 32205\, United States
ORGANIZER;CN="Dannielle Caldwell":MAILTO:info@musictherapynow.net
END:VEVENT
BEGIN:VEVENT
DTSTART;TZID=America/New_York:20291213T100000
DTEND;TZID=America/New_York:20291213T103000
DTSTAMP:20260425T215307
CREATED:20260120T001655Z
LAST-MODIFIED:20260316T153434Z
UID:10003740-1891850400-1891852200@happymediumbookscafe.com
SUMMARY:Happy Little Melodies
DESCRIPTION:Join us for music\, movement\, and memory-making with your little one in this cozy\, welcoming space! \n Reserve your spot before they’re gone: www.musictherapynow.net/happylittlemelodies
URL:https://happymediumbookscafe.com/events/happy-little-melodies-6/2029-12-13/
LOCATION:Happy Medium Books Cafe\, 2724 Park St\, Jacksonville\, FL\, 32205\, United States
ORGANIZER;CN="Dannielle Caldwell":MAILTO:info@musictherapynow.net
END:VEVENT
BEGIN:VEVENT
DTSTART;TZID=America/New_York:20291220T100000
DTEND;TZID=America/New_York:20291220T103000
DTSTAMP:20260425T215307
CREATED:20260120T001655Z
LAST-MODIFIED:20260316T153434Z
UID:10003741-1892455200-1892457000@happymediumbookscafe.com
SUMMARY:Happy Little Melodies
DESCRIPTION:Join us for music\, movement\, and memory-making with your little one in this cozy\, welcoming space! \n Reserve your spot before they’re gone: www.musictherapynow.net/happylittlemelodies
URL:https://happymediumbookscafe.com/events/happy-little-melodies-6/2029-12-20/
LOCATION:Happy Medium Books Cafe\, 2724 Park St\, Jacksonville\, FL\, 32205\, United States
ORGANIZER;CN="Dannielle Caldwell":MAILTO:info@musictherapynow.net
END:VEVENT
BEGIN:VEVENT
DTSTART;TZID=America/New_York:20291227T100000
DTEND;TZID=America/New_York:20291227T103000
DTSTAMP:20260425T215307
CREATED:20260120T001655Z
LAST-MODIFIED:20260316T153434Z
UID:10003742-1893060000-1893061800@happymediumbookscafe.com
SUMMARY:Happy Little Melodies
DESCRIPTION:Join us for music\, movement\, and memory-making with your little one in this cozy\, welcoming space! \n Reserve your spot before they’re gone: www.musictherapynow.net/happylittlemelodies
URL:https://happymediumbookscafe.com/events/happy-little-melodies-6/2029-12-27/
LOCATION:Happy Medium Books Cafe\, 2724 Park St\, Jacksonville\, FL\, 32205\, United States
ORGANIZER;CN="Dannielle Caldwell":MAILTO:info@musictherapynow.net
END:VEVENT
BEGIN:VEVENT
DTSTART;TZID=America/New_York:20300103T100000
DTEND;TZID=America/New_York:20300103T103000
DTSTAMP:20260425T215307
CREATED:20260120T001655Z
LAST-MODIFIED:20260316T153434Z
UID:10003743-1893664800-1893666600@happymediumbookscafe.com
SUMMARY:Happy Little Melodies
DESCRIPTION:Join us for music\, movement\, and memory-making with your little one in this cozy\, welcoming space! \n Reserve your spot before they’re gone: www.musictherapynow.net/happylittlemelodies
URL:https://happymediumbookscafe.com/events/happy-little-melodies-6/2030-01-03/
LOCATION:Happy Medium Books Cafe\, 2724 Park St\, Jacksonville\, FL\, 32205\, United States
ORGANIZER;CN="Dannielle Caldwell":MAILTO:info@musictherapynow.net
END:VEVENT
BEGIN:VEVENT
DTSTART;TZID=America/New_York:20300110T100000
DTEND;TZID=America/New_York:20300110T103000
DTSTAMP:20260425T215307
CREATED:20260120T001655Z
LAST-MODIFIED:20260316T153434Z
UID:10003744-1894269600-1894271400@happymediumbookscafe.com
SUMMARY:Happy Little Melodies
DESCRIPTION:Join us for music\, movement\, and memory-making with your little one in this cozy\, welcoming space! \n Reserve your spot before they’re gone: www.musictherapynow.net/happylittlemelodies
URL:https://happymediumbookscafe.com/events/happy-little-melodies-6/2030-01-10/
LOCATION:Happy Medium Books Cafe\, 2724 Park St\, Jacksonville\, FL\, 32205\, United States
ORGANIZER;CN="Dannielle Caldwell":MAILTO:info@musictherapynow.net
END:VEVENT
BEGIN:VEVENT
DTSTART;TZID=America/New_York:20300117T100000
DTEND;TZID=America/New_York:20300117T103000
DTSTAMP:20260425T215307
CREATED:20260120T001655Z
LAST-MODIFIED:20260316T153434Z
UID:10003745-1894874400-1894876200@happymediumbookscafe.com
SUMMARY:Happy Little Melodies
DESCRIPTION:Join us for music\, movement\, and memory-making with your little one in this cozy\, welcoming space! \n Reserve your spot before they’re gone: www.musictherapynow.net/happylittlemelodies
URL:https://happymediumbookscafe.com/events/happy-little-melodies-6/2030-01-17/
LOCATION:Happy Medium Books Cafe\, 2724 Park St\, Jacksonville\, FL\, 32205\, United States
ORGANIZER;CN="Dannielle Caldwell":MAILTO:info@musictherapynow.net
END:VEVENT
BEGIN:VEVENT
DTSTART;TZID=America/New_York:20300124T100000
DTEND;TZID=America/New_York:20300124T103000
DTSTAMP:20260425T215307
CREATED:20260120T001655Z
LAST-MODIFIED:20260316T153434Z
UID:10003746-1895479200-1895481000@happymediumbookscafe.com
SUMMARY:Happy Little Melodies
DESCRIPTION:Join us for music\, movement\, and memory-making with your little one in this cozy\, welcoming space! \n Reserve your spot before they’re gone: www.musictherapynow.net/happylittlemelodies
URL:https://happymediumbookscafe.com/events/happy-little-melodies-6/2030-01-24/
LOCATION:Happy Medium Books Cafe\, 2724 Park St\, Jacksonville\, FL\, 32205\, United States
ORGANIZER;CN="Dannielle Caldwell":MAILTO:info@musictherapynow.net
END:VEVENT
BEGIN:VEVENT
DTSTART;TZID=America/New_York:20300131T100000
DTEND;TZID=America/New_York:20300131T103000
DTSTAMP:20260425T215307
CREATED:20260120T001655Z
LAST-MODIFIED:20260316T153434Z
UID:10003747-1896084000-1896085800@happymediumbookscafe.com
SUMMARY:Happy Little Melodies
DESCRIPTION:Join us for music\, movement\, and memory-making with your little one in this cozy\, welcoming space! \n Reserve your spot before they’re gone: www.musictherapynow.net/happylittlemelodies
URL:https://happymediumbookscafe.com/events/happy-little-melodies-6/2030-01-31/
LOCATION:Happy Medium Books Cafe\, 2724 Park St\, Jacksonville\, FL\, 32205\, United States
ORGANIZER;CN="Dannielle Caldwell":MAILTO:info@musictherapynow.net
END:VEVENT
BEGIN:VEVENT
DTSTART;TZID=America/New_York:20300207T100000
DTEND;TZID=America/New_York:20300207T103000
DTSTAMP:20260425T215307
CREATED:20260120T001655Z
LAST-MODIFIED:20260316T153434Z
UID:10003748-1896688800-1896690600@happymediumbookscafe.com
SUMMARY:Happy Little Melodies
DESCRIPTION:Join us for music\, movement\, and memory-making with your little one in this cozy\, welcoming space! \n Reserve your spot before they’re gone: www.musictherapynow.net/happylittlemelodies
URL:https://happymediumbookscafe.com/events/happy-little-melodies-6/2030-02-07/
LOCATION:Happy Medium Books Cafe\, 2724 Park St\, Jacksonville\, FL\, 32205\, United States
ORGANIZER;CN="Dannielle Caldwell":MAILTO:info@musictherapynow.net
END:VEVENT
BEGIN:VEVENT
DTSTART;TZID=America/New_York:20300214T100000
DTEND;TZID=America/New_York:20300214T103000
DTSTAMP:20260425T215307
CREATED:20260120T001655Z
LAST-MODIFIED:20260316T153434Z
UID:10003749-1897293600-1897295400@happymediumbookscafe.com
SUMMARY:Happy Little Melodies
DESCRIPTION:Join us for music\, movement\, and memory-making with your little one in this cozy\, welcoming space! \n Reserve your spot before they’re gone: www.musictherapynow.net/happylittlemelodies
URL:https://happymediumbookscafe.com/events/happy-little-melodies-6/2030-02-14/
LOCATION:Happy Medium Books Cafe\, 2724 Park St\, Jacksonville\, FL\, 32205\, United States
ORGANIZER;CN="Dannielle Caldwell":MAILTO:info@musictherapynow.net
END:VEVENT
BEGIN:VEVENT
DTSTART;TZID=America/New_York:20300221T100000
DTEND;TZID=America/New_York:20300221T103000
DTSTAMP:20260425T215307
CREATED:20260120T001655Z
LAST-MODIFIED:20260316T153434Z
UID:10003750-1897898400-1897900200@happymediumbookscafe.com
SUMMARY:Happy Little Melodies
DESCRIPTION:Join us for music\, movement\, and memory-making with your little one in this cozy\, welcoming space! \n Reserve your spot before they’re gone: www.musictherapynow.net/happylittlemelodies
URL:https://happymediumbookscafe.com/events/happy-little-melodies-6/2030-02-21/
LOCATION:Happy Medium Books Cafe\, 2724 Park St\, Jacksonville\, FL\, 32205\, United States
ORGANIZER;CN="Dannielle Caldwell":MAILTO:info@musictherapynow.net
END:VEVENT
BEGIN:VEVENT
DTSTART;TZID=America/New_York:20300228T100000
DTEND;TZID=America/New_York:20300228T103000
DTSTAMP:20260425T215307
CREATED:20260120T001655Z
LAST-MODIFIED:20260316T153434Z
UID:10003751-1898503200-1898505000@happymediumbookscafe.com
SUMMARY:Happy Little Melodies
DESCRIPTION:Join us for music\, movement\, and memory-making with your little one in this cozy\, welcoming space! \n Reserve your spot before they’re gone: www.musictherapynow.net/happylittlemelodies
URL:https://happymediumbookscafe.com/events/happy-little-melodies-6/2030-02-28/
LOCATION:Happy Medium Books Cafe\, 2724 Park St\, Jacksonville\, FL\, 32205\, United States
ORGANIZER;CN="Dannielle Caldwell":MAILTO:info@musictherapynow.net
END:VEVENT
BEGIN:VEVENT
DTSTART;TZID=America/New_York:20300307T100000
DTEND;TZID=America/New_York:20300307T103000
DTSTAMP:20260425T215307
CREATED:20260120T001655Z
LAST-MODIFIED:20260316T153434Z
UID:10003752-1899108000-1899109800@happymediumbookscafe.com
SUMMARY:Happy Little Melodies
DESCRIPTION:Join us for music\, movement\, and memory-making with your little one in this cozy\, welcoming space! \n Reserve your spot before they’re gone: www.musictherapynow.net/happylittlemelodies
URL:https://happymediumbookscafe.com/events/happy-little-melodies-6/2030-03-07/
LOCATION:Happy Medium Books Cafe\, 2724 Park St\, Jacksonville\, FL\, 32205\, United States
ORGANIZER;CN="Dannielle Caldwell":MAILTO:info@musictherapynow.net
END:VEVENT
BEGIN:VEVENT
DTSTART;TZID=America/New_York:20300314T100000
DTEND;TZID=America/New_York:20300314T103000
DTSTAMP:20260425T215307
CREATED:20260120T001655Z
LAST-MODIFIED:20260316T153434Z
UID:10003753-1899712800-1899714600@happymediumbookscafe.com
SUMMARY:Happy Little Melodies
DESCRIPTION:Join us for music\, movement\, and memory-making with your little one in this cozy\, welcoming space! \n Reserve your spot before they’re gone: www.musictherapynow.net/happylittlemelodies
URL:https://happymediumbookscafe.com/events/happy-little-melodies-6/2030-03-14/
LOCATION:Happy Medium Books Cafe\, 2724 Park St\, Jacksonville\, FL\, 32205\, United States
ORGANIZER;CN="Dannielle Caldwell":MAILTO:info@musictherapynow.net
END:VEVENT
BEGIN:VEVENT
DTSTART;TZID=America/New_York:20300321T100000
DTEND;TZID=America/New_York:20300321T103000
DTSTAMP:20260425T215307
CREATED:20260120T001655Z
LAST-MODIFIED:20260316T153434Z
UID:10003754-1900317600-1900319400@happymediumbookscafe.com
SUMMARY:Happy Little Melodies
DESCRIPTION:Join us for music\, movement\, and memory-making with your little one in this cozy\, welcoming space! \n Reserve your spot before they’re gone: www.musictherapynow.net/happylittlemelodies
URL:https://happymediumbookscafe.com/events/happy-little-melodies-6/2030-03-21/
LOCATION:Happy Medium Books Cafe\, 2724 Park St\, Jacksonville\, FL\, 32205\, United States
ORGANIZER;CN="Dannielle Caldwell":MAILTO:info@musictherapynow.net
END:VEVENT
BEGIN:VEVENT
DTSTART;TZID=America/New_York:20300328T100000
DTEND;TZID=America/New_York:20300328T103000
DTSTAMP:20260425T215307
CREATED:20260120T001655Z
LAST-MODIFIED:20260316T153434Z
UID:10003755-1900922400-1900924200@happymediumbookscafe.com
SUMMARY:Happy Little Melodies
DESCRIPTION:Join us for music\, movement\, and memory-making with your little one in this cozy\, welcoming space! \n Reserve your spot before they’re gone: www.musictherapynow.net/happylittlemelodies
URL:https://happymediumbookscafe.com/events/happy-little-melodies-6/2030-03-28/
LOCATION:Happy Medium Books Cafe\, 2724 Park St\, Jacksonville\, FL\, 32205\, United States
ORGANIZER;CN="Dannielle Caldwell":MAILTO:info@musictherapynow.net
END:VEVENT
BEGIN:VEVENT
DTSTART;TZID=America/New_York:20300404T100000
DTEND;TZID=America/New_York:20300404T103000
DTSTAMP:20260425T215307
CREATED:20260120T001655Z
LAST-MODIFIED:20260316T153434Z
UID:10003756-1901527200-1901529000@happymediumbookscafe.com
SUMMARY:Happy Little Melodies
DESCRIPTION:Join us for music\, movement\, and memory-making with your little one in this cozy\, welcoming space! \n Reserve your spot before they’re gone: www.musictherapynow.net/happylittlemelodies
URL:https://happymediumbookscafe.com/events/happy-little-melodies-6/2030-04-04/
LOCATION:Happy Medium Books Cafe\, 2724 Park St\, Jacksonville\, FL\, 32205\, United States
ORGANIZER;CN="Dannielle Caldwell":MAILTO:info@musictherapynow.net
END:VEVENT
BEGIN:VEVENT
DTSTART;TZID=America/New_York:20300411T100000
DTEND;TZID=America/New_York:20300411T103000
DTSTAMP:20260425T215307
CREATED:20260120T001655Z
LAST-MODIFIED:20260316T153434Z
UID:10003757-1902132000-1902133800@happymediumbookscafe.com
SUMMARY:Happy Little Melodies
DESCRIPTION:Join us for music\, movement\, and memory-making with your little one in this cozy\, welcoming space! \n Reserve your spot before they’re gone: www.musictherapynow.net/happylittlemelodies
URL:https://happymediumbookscafe.com/events/happy-little-melodies-6/2030-04-11/
LOCATION:Happy Medium Books Cafe\, 2724 Park St\, Jacksonville\, FL\, 32205\, United States
ORGANIZER;CN="Dannielle Caldwell":MAILTO:info@musictherapynow.net
END:VEVENT
BEGIN:VEVENT
DTSTART;TZID=America/New_York:20300418T100000
DTEND;TZID=America/New_York:20300418T103000
DTSTAMP:20260425T215307
CREATED:20260120T001655Z
LAST-MODIFIED:20260316T153434Z
UID:10003758-1902736800-1902738600@happymediumbookscafe.com
SUMMARY:Happy Little Melodies
DESCRIPTION:Join us for music\, movement\, and memory-making with your little one in this cozy\, welcoming space! \n Reserve your spot before they’re gone: www.musictherapynow.net/happylittlemelodies
URL:https://happymediumbookscafe.com/events/happy-little-melodies-6/2030-04-18/
LOCATION:Happy Medium Books Cafe\, 2724 Park St\, Jacksonville\, FL\, 32205\, United States
ORGANIZER;CN="Dannielle Caldwell":MAILTO:info@musictherapynow.net
END:VEVENT
BEGIN:VEVENT
DTSTART;TZID=America/New_York:20300425T100000
DTEND;TZID=America/New_York:20300425T103000
DTSTAMP:20260425T215307
CREATED:20260120T001655Z
LAST-MODIFIED:20260316T153434Z
UID:10003759-1903341600-1903343400@happymediumbookscafe.com
SUMMARY:Happy Little Melodies
DESCRIPTION:Join us for music\, movement\, and memory-making with your little one in this cozy\, welcoming space! \n Reserve your spot before they’re gone: www.musictherapynow.net/happylittlemelodies
URL:https://happymediumbookscafe.com/events/happy-little-melodies-6/2030-04-25/
LOCATION:Happy Medium Books Cafe\, 2724 Park St\, Jacksonville\, FL\, 32205\, United States
ORGANIZER;CN="Dannielle Caldwell":MAILTO:info@musictherapynow.net
END:VEVENT
BEGIN:VEVENT
DTSTART;TZID=America/New_York:20300502T100000
DTEND;TZID=America/New_York:20300502T103000
DTSTAMP:20260425T215307
CREATED:20260120T001655Z
LAST-MODIFIED:20260316T153434Z
UID:10003760-1903946400-1903948200@happymediumbookscafe.com
SUMMARY:Happy Little Melodies
DESCRIPTION:Join us for music\, movement\, and memory-making with your little one in this cozy\, welcoming space! \n Reserve your spot before they’re gone: www.musictherapynow.net/happylittlemelodies
URL:https://happymediumbookscafe.com/events/happy-little-melodies-6/2030-05-02/
LOCATION:Happy Medium Books Cafe\, 2724 Park St\, Jacksonville\, FL\, 32205\, United States
ORGANIZER;CN="Dannielle Caldwell":MAILTO:info@musictherapynow.net
END:VEVENT
END:VCALENDAR