BEGIN:VCALENDAR
VERSION:2.0
PRODID:-//Best bookstore café in Jacksonville, FL | Happy Medium Books Café - ECPv6.15.11//NONSGML v1.0//EN
CALSCALE:GREGORIAN
METHOD:PUBLISH
X-ORIGINAL-URL:https://happymediumbookscafe.com
X-WR-CALDESC:Events for Best bookstore café in Jacksonville, FL | Happy Medium Books Café
REFRESH-INTERVAL;VALUE=DURATION:PT1H
X-Robots-Tag:noindex
X-PUBLISHED-TTL:PT1H
BEGIN:VTIMEZONE
TZID:America/New_York
BEGIN:DAYLIGHT
TZOFFSETFROM:-0500
TZOFFSETTO:-0400
TZNAME:EDT
DTSTART:20280312T070000
END:DAYLIGHT
BEGIN:STANDARD
TZOFFSETFROM:-0400
TZOFFSETTO:-0500
TZNAME:EST
DTSTART:20281105T060000
END:STANDARD
BEGIN:DAYLIGHT
TZOFFSETFROM:-0500
TZOFFSETTO:-0400
TZNAME:EDT
DTSTART:20290311T070000
END:DAYLIGHT
BEGIN:STANDARD
TZOFFSETFROM:-0400
TZOFFSETTO:-0500
TZNAME:EST
DTSTART:20291104T060000
END:STANDARD
BEGIN:DAYLIGHT
TZOFFSETFROM:-0500
TZOFFSETTO:-0400
TZNAME:EDT
DTSTART:20300310T070000
END:DAYLIGHT
BEGIN:STANDARD
TZOFFSETFROM:-0400
TZOFFSETTO:-0500
TZNAME:EST
DTSTART:20301103T060000
END:STANDARD
END:VTIMEZONE
BEGIN:VEVENT
DTSTART;TZID=America/New_York:20290426T100000
DTEND;TZID=America/New_York:20290426T103000
DTSTAMP:20260425T174609
CREATED:20260120T001655Z
LAST-MODIFIED:20260316T153434Z
UID:10003707-1871892000-1871893800@happymediumbookscafe.com
SUMMARY:Happy Little Melodies
DESCRIPTION:Join us for music\, movement\, and memory-making with your little one in this cozy\, welcoming space! \n Reserve your spot before they’re gone: www.musictherapynow.net/happylittlemelodies
URL:https://happymediumbookscafe.com/events/happy-little-melodies-6/2029-04-26/
LOCATION:Happy Medium Books Cafe\, 2724 Park St\, Jacksonville\, FL\, 32205\, United States
ORGANIZER;CN="Dannielle Caldwell":MAILTO:info@musictherapynow.net
END:VEVENT
BEGIN:VEVENT
DTSTART;TZID=America/New_York:20290503T100000
DTEND;TZID=America/New_York:20290503T103000
DTSTAMP:20260425T174609
CREATED:20260120T001655Z
LAST-MODIFIED:20260316T153434Z
UID:10003708-1872496800-1872498600@happymediumbookscafe.com
SUMMARY:Happy Little Melodies
DESCRIPTION:Join us for music\, movement\, and memory-making with your little one in this cozy\, welcoming space! \n Reserve your spot before they’re gone: www.musictherapynow.net/happylittlemelodies
URL:https://happymediumbookscafe.com/events/happy-little-melodies-6/2029-05-03/
LOCATION:Happy Medium Books Cafe\, 2724 Park St\, Jacksonville\, FL\, 32205\, United States
ORGANIZER;CN="Dannielle Caldwell":MAILTO:info@musictherapynow.net
END:VEVENT
BEGIN:VEVENT
DTSTART;TZID=America/New_York:20290510T100000
DTEND;TZID=America/New_York:20290510T103000
DTSTAMP:20260425T174609
CREATED:20260120T001655Z
LAST-MODIFIED:20260316T153434Z
UID:10003709-1873101600-1873103400@happymediumbookscafe.com
SUMMARY:Happy Little Melodies
DESCRIPTION:Join us for music\, movement\, and memory-making with your little one in this cozy\, welcoming space! \n Reserve your spot before they’re gone: www.musictherapynow.net/happylittlemelodies
URL:https://happymediumbookscafe.com/events/happy-little-melodies-6/2029-05-10/
LOCATION:Happy Medium Books Cafe\, 2724 Park St\, Jacksonville\, FL\, 32205\, United States
ORGANIZER;CN="Dannielle Caldwell":MAILTO:info@musictherapynow.net
END:VEVENT
BEGIN:VEVENT
DTSTART;TZID=America/New_York:20290517T100000
DTEND;TZID=America/New_York:20290517T103000
DTSTAMP:20260425T174609
CREATED:20260120T001655Z
LAST-MODIFIED:20260316T153434Z
UID:10003710-1873706400-1873708200@happymediumbookscafe.com
SUMMARY:Happy Little Melodies
DESCRIPTION:Join us for music\, movement\, and memory-making with your little one in this cozy\, welcoming space! \n Reserve your spot before they’re gone: www.musictherapynow.net/happylittlemelodies
URL:https://happymediumbookscafe.com/events/happy-little-melodies-6/2029-05-17/
LOCATION:Happy Medium Books Cafe\, 2724 Park St\, Jacksonville\, FL\, 32205\, United States
ORGANIZER;CN="Dannielle Caldwell":MAILTO:info@musictherapynow.net
END:VEVENT
BEGIN:VEVENT
DTSTART;TZID=America/New_York:20290524T100000
DTEND;TZID=America/New_York:20290524T103000
DTSTAMP:20260425T174609
CREATED:20260120T001655Z
LAST-MODIFIED:20260316T153434Z
UID:10003711-1874311200-1874313000@happymediumbookscafe.com
SUMMARY:Happy Little Melodies
DESCRIPTION:Join us for music\, movement\, and memory-making with your little one in this cozy\, welcoming space! \n Reserve your spot before they’re gone: www.musictherapynow.net/happylittlemelodies
URL:https://happymediumbookscafe.com/events/happy-little-melodies-6/2029-05-24/
LOCATION:Happy Medium Books Cafe\, 2724 Park St\, Jacksonville\, FL\, 32205\, United States
ORGANIZER;CN="Dannielle Caldwell":MAILTO:info@musictherapynow.net
END:VEVENT
BEGIN:VEVENT
DTSTART;TZID=America/New_York:20290531T100000
DTEND;TZID=America/New_York:20290531T103000
DTSTAMP:20260425T174609
CREATED:20260120T001655Z
LAST-MODIFIED:20260316T153434Z
UID:10003712-1874916000-1874917800@happymediumbookscafe.com
SUMMARY:Happy Little Melodies
DESCRIPTION:Join us for music\, movement\, and memory-making with your little one in this cozy\, welcoming space! \n Reserve your spot before they’re gone: www.musictherapynow.net/happylittlemelodies
URL:https://happymediumbookscafe.com/events/happy-little-melodies-6/2029-05-31/
LOCATION:Happy Medium Books Cafe\, 2724 Park St\, Jacksonville\, FL\, 32205\, United States
ORGANIZER;CN="Dannielle Caldwell":MAILTO:info@musictherapynow.net
END:VEVENT
BEGIN:VEVENT
DTSTART;TZID=America/New_York:20290607T100000
DTEND;TZID=America/New_York:20290607T103000
DTSTAMP:20260425T174609
CREATED:20260120T001655Z
LAST-MODIFIED:20260316T153434Z
UID:10003713-1875520800-1875522600@happymediumbookscafe.com
SUMMARY:Happy Little Melodies
DESCRIPTION:Join us for music\, movement\, and memory-making with your little one in this cozy\, welcoming space! \n Reserve your spot before they’re gone: www.musictherapynow.net/happylittlemelodies
URL:https://happymediumbookscafe.com/events/happy-little-melodies-6/2029-06-07/
LOCATION:Happy Medium Books Cafe\, 2724 Park St\, Jacksonville\, FL\, 32205\, United States
ORGANIZER;CN="Dannielle Caldwell":MAILTO:info@musictherapynow.net
END:VEVENT
BEGIN:VEVENT
DTSTART;TZID=America/New_York:20290614T100000
DTEND;TZID=America/New_York:20290614T103000
DTSTAMP:20260425T174609
CREATED:20260120T001655Z
LAST-MODIFIED:20260316T153434Z
UID:10003714-1876125600-1876127400@happymediumbookscafe.com
SUMMARY:Happy Little Melodies
DESCRIPTION:Join us for music\, movement\, and memory-making with your little one in this cozy\, welcoming space! \n Reserve your spot before they’re gone: www.musictherapynow.net/happylittlemelodies
URL:https://happymediumbookscafe.com/events/happy-little-melodies-6/2029-06-14/
LOCATION:Happy Medium Books Cafe\, 2724 Park St\, Jacksonville\, FL\, 32205\, United States
ORGANIZER;CN="Dannielle Caldwell":MAILTO:info@musictherapynow.net
END:VEVENT
BEGIN:VEVENT
DTSTART;TZID=America/New_York:20290621T100000
DTEND;TZID=America/New_York:20290621T103000
DTSTAMP:20260425T174609
CREATED:20260120T001655Z
LAST-MODIFIED:20260316T153434Z
UID:10003715-1876730400-1876732200@happymediumbookscafe.com
SUMMARY:Happy Little Melodies
DESCRIPTION:Join us for music\, movement\, and memory-making with your little one in this cozy\, welcoming space! \n Reserve your spot before they’re gone: www.musictherapynow.net/happylittlemelodies
URL:https://happymediumbookscafe.com/events/happy-little-melodies-6/2029-06-21/
LOCATION:Happy Medium Books Cafe\, 2724 Park St\, Jacksonville\, FL\, 32205\, United States
ORGANIZER;CN="Dannielle Caldwell":MAILTO:info@musictherapynow.net
END:VEVENT
BEGIN:VEVENT
DTSTART;TZID=America/New_York:20290628T100000
DTEND;TZID=America/New_York:20290628T103000
DTSTAMP:20260425T174609
CREATED:20260120T001655Z
LAST-MODIFIED:20260316T153434Z
UID:10003716-1877335200-1877337000@happymediumbookscafe.com
SUMMARY:Happy Little Melodies
DESCRIPTION:Join us for music\, movement\, and memory-making with your little one in this cozy\, welcoming space! \n Reserve your spot before they’re gone: www.musictherapynow.net/happylittlemelodies
URL:https://happymediumbookscafe.com/events/happy-little-melodies-6/2029-06-28/
LOCATION:Happy Medium Books Cafe\, 2724 Park St\, Jacksonville\, FL\, 32205\, United States
ORGANIZER;CN="Dannielle Caldwell":MAILTO:info@musictherapynow.net
END:VEVENT
BEGIN:VEVENT
DTSTART;TZID=America/New_York:20290705T100000
DTEND;TZID=America/New_York:20290705T103000
DTSTAMP:20260425T174609
CREATED:20260120T001655Z
LAST-MODIFIED:20260316T153434Z
UID:10003717-1877940000-1877941800@happymediumbookscafe.com
SUMMARY:Happy Little Melodies
DESCRIPTION:Join us for music\, movement\, and memory-making with your little one in this cozy\, welcoming space! \n Reserve your spot before they’re gone: www.musictherapynow.net/happylittlemelodies
URL:https://happymediumbookscafe.com/events/happy-little-melodies-6/2029-07-05/
LOCATION:Happy Medium Books Cafe\, 2724 Park St\, Jacksonville\, FL\, 32205\, United States
ORGANIZER;CN="Dannielle Caldwell":MAILTO:info@musictherapynow.net
END:VEVENT
BEGIN:VEVENT
DTSTART;TZID=America/New_York:20290712T100000
DTEND;TZID=America/New_York:20290712T103000
DTSTAMP:20260425T174609
CREATED:20260120T001655Z
LAST-MODIFIED:20260316T153434Z
UID:10003718-1878544800-1878546600@happymediumbookscafe.com
SUMMARY:Happy Little Melodies
DESCRIPTION:Join us for music\, movement\, and memory-making with your little one in this cozy\, welcoming space! \n Reserve your spot before they’re gone: www.musictherapynow.net/happylittlemelodies
URL:https://happymediumbookscafe.com/events/happy-little-melodies-6/2029-07-12/
LOCATION:Happy Medium Books Cafe\, 2724 Park St\, Jacksonville\, FL\, 32205\, United States
ORGANIZER;CN="Dannielle Caldwell":MAILTO:info@musictherapynow.net
END:VEVENT
BEGIN:VEVENT
DTSTART;TZID=America/New_York:20290719T100000
DTEND;TZID=America/New_York:20290719T103000
DTSTAMP:20260425T174609
CREATED:20260120T001655Z
LAST-MODIFIED:20260316T153434Z
UID:10003719-1879149600-1879151400@happymediumbookscafe.com
SUMMARY:Happy Little Melodies
DESCRIPTION:Join us for music\, movement\, and memory-making with your little one in this cozy\, welcoming space! \n Reserve your spot before they’re gone: www.musictherapynow.net/happylittlemelodies
URL:https://happymediumbookscafe.com/events/happy-little-melodies-6/2029-07-19/
LOCATION:Happy Medium Books Cafe\, 2724 Park St\, Jacksonville\, FL\, 32205\, United States
ORGANIZER;CN="Dannielle Caldwell":MAILTO:info@musictherapynow.net
END:VEVENT
BEGIN:VEVENT
DTSTART;TZID=America/New_York:20290726T100000
DTEND;TZID=America/New_York:20290726T103000
DTSTAMP:20260425T174609
CREATED:20260120T001655Z
LAST-MODIFIED:20260316T153434Z
UID:10003720-1879754400-1879756200@happymediumbookscafe.com
SUMMARY:Happy Little Melodies
DESCRIPTION:Join us for music\, movement\, and memory-making with your little one in this cozy\, welcoming space! \n Reserve your spot before they’re gone: www.musictherapynow.net/happylittlemelodies
URL:https://happymediumbookscafe.com/events/happy-little-melodies-6/2029-07-26/
LOCATION:Happy Medium Books Cafe\, 2724 Park St\, Jacksonville\, FL\, 32205\, United States
ORGANIZER;CN="Dannielle Caldwell":MAILTO:info@musictherapynow.net
END:VEVENT
BEGIN:VEVENT
DTSTART;TZID=America/New_York:20290802T100000
DTEND;TZID=America/New_York:20290802T103000
DTSTAMP:20260425T174609
CREATED:20260120T001655Z
LAST-MODIFIED:20260316T153434Z
UID:10003721-1880359200-1880361000@happymediumbookscafe.com
SUMMARY:Happy Little Melodies
DESCRIPTION:Join us for music\, movement\, and memory-making with your little one in this cozy\, welcoming space! \n Reserve your spot before they’re gone: www.musictherapynow.net/happylittlemelodies
URL:https://happymediumbookscafe.com/events/happy-little-melodies-6/2029-08-02/
LOCATION:Happy Medium Books Cafe\, 2724 Park St\, Jacksonville\, FL\, 32205\, United States
ORGANIZER;CN="Dannielle Caldwell":MAILTO:info@musictherapynow.net
END:VEVENT
BEGIN:VEVENT
DTSTART;TZID=America/New_York:20290809T100000
DTEND;TZID=America/New_York:20290809T103000
DTSTAMP:20260425T174609
CREATED:20260120T001655Z
LAST-MODIFIED:20260316T153434Z
UID:10003722-1880964000-1880965800@happymediumbookscafe.com
SUMMARY:Happy Little Melodies
DESCRIPTION:Join us for music\, movement\, and memory-making with your little one in this cozy\, welcoming space! \n Reserve your spot before they’re gone: www.musictherapynow.net/happylittlemelodies
URL:https://happymediumbookscafe.com/events/happy-little-melodies-6/2029-08-09/
LOCATION:Happy Medium Books Cafe\, 2724 Park St\, Jacksonville\, FL\, 32205\, United States
ORGANIZER;CN="Dannielle Caldwell":MAILTO:info@musictherapynow.net
END:VEVENT
BEGIN:VEVENT
DTSTART;TZID=America/New_York:20290816T100000
DTEND;TZID=America/New_York:20290816T103000
DTSTAMP:20260425T174609
CREATED:20260120T001655Z
LAST-MODIFIED:20260316T153434Z
UID:10003723-1881568800-1881570600@happymediumbookscafe.com
SUMMARY:Happy Little Melodies
DESCRIPTION:Join us for music\, movement\, and memory-making with your little one in this cozy\, welcoming space! \n Reserve your spot before they’re gone: www.musictherapynow.net/happylittlemelodies
URL:https://happymediumbookscafe.com/events/happy-little-melodies-6/2029-08-16/
LOCATION:Happy Medium Books Cafe\, 2724 Park St\, Jacksonville\, FL\, 32205\, United States
ORGANIZER;CN="Dannielle Caldwell":MAILTO:info@musictherapynow.net
END:VEVENT
BEGIN:VEVENT
DTSTART;TZID=America/New_York:20290823T100000
DTEND;TZID=America/New_York:20290823T103000
DTSTAMP:20260425T174609
CREATED:20260120T001655Z
LAST-MODIFIED:20260316T153434Z
UID:10003724-1882173600-1882175400@happymediumbookscafe.com
SUMMARY:Happy Little Melodies
DESCRIPTION:Join us for music\, movement\, and memory-making with your little one in this cozy\, welcoming space! \n Reserve your spot before they’re gone: www.musictherapynow.net/happylittlemelodies
URL:https://happymediumbookscafe.com/events/happy-little-melodies-6/2029-08-23/
LOCATION:Happy Medium Books Cafe\, 2724 Park St\, Jacksonville\, FL\, 32205\, United States
ORGANIZER;CN="Dannielle Caldwell":MAILTO:info@musictherapynow.net
END:VEVENT
BEGIN:VEVENT
DTSTART;TZID=America/New_York:20290830T100000
DTEND;TZID=America/New_York:20290830T103000
DTSTAMP:20260425T174609
CREATED:20260120T001655Z
LAST-MODIFIED:20260316T153434Z
UID:10003725-1882778400-1882780200@happymediumbookscafe.com
SUMMARY:Happy Little Melodies
DESCRIPTION:Join us for music\, movement\, and memory-making with your little one in this cozy\, welcoming space! \n Reserve your spot before they’re gone: www.musictherapynow.net/happylittlemelodies
URL:https://happymediumbookscafe.com/events/happy-little-melodies-6/2029-08-30/
LOCATION:Happy Medium Books Cafe\, 2724 Park St\, Jacksonville\, FL\, 32205\, United States
ORGANIZER;CN="Dannielle Caldwell":MAILTO:info@musictherapynow.net
END:VEVENT
BEGIN:VEVENT
DTSTART;TZID=America/New_York:20290906T100000
DTEND;TZID=America/New_York:20290906T103000
DTSTAMP:20260425T174609
CREATED:20260120T001655Z
LAST-MODIFIED:20260316T153434Z
UID:10003726-1883383200-1883385000@happymediumbookscafe.com
SUMMARY:Happy Little Melodies
DESCRIPTION:Join us for music\, movement\, and memory-making with your little one in this cozy\, welcoming space! \n Reserve your spot before they’re gone: www.musictherapynow.net/happylittlemelodies
URL:https://happymediumbookscafe.com/events/happy-little-melodies-6/2029-09-06/
LOCATION:Happy Medium Books Cafe\, 2724 Park St\, Jacksonville\, FL\, 32205\, United States
ORGANIZER;CN="Dannielle Caldwell":MAILTO:info@musictherapynow.net
END:VEVENT
BEGIN:VEVENT
DTSTART;TZID=America/New_York:20290913T100000
DTEND;TZID=America/New_York:20290913T103000
DTSTAMP:20260425T174609
CREATED:20260120T001655Z
LAST-MODIFIED:20260316T153434Z
UID:10003727-1883988000-1883989800@happymediumbookscafe.com
SUMMARY:Happy Little Melodies
DESCRIPTION:Join us for music\, movement\, and memory-making with your little one in this cozy\, welcoming space! \n Reserve your spot before they’re gone: www.musictherapynow.net/happylittlemelodies
URL:https://happymediumbookscafe.com/events/happy-little-melodies-6/2029-09-13/
LOCATION:Happy Medium Books Cafe\, 2724 Park St\, Jacksonville\, FL\, 32205\, United States
ORGANIZER;CN="Dannielle Caldwell":MAILTO:info@musictherapynow.net
END:VEVENT
BEGIN:VEVENT
DTSTART;TZID=America/New_York:20290920T100000
DTEND;TZID=America/New_York:20290920T103000
DTSTAMP:20260425T174609
CREATED:20260120T001655Z
LAST-MODIFIED:20260316T153434Z
UID:10003728-1884592800-1884594600@happymediumbookscafe.com
SUMMARY:Happy Little Melodies
DESCRIPTION:Join us for music\, movement\, and memory-making with your little one in this cozy\, welcoming space! \n Reserve your spot before they’re gone: www.musictherapynow.net/happylittlemelodies
URL:https://happymediumbookscafe.com/events/happy-little-melodies-6/2029-09-20/
LOCATION:Happy Medium Books Cafe\, 2724 Park St\, Jacksonville\, FL\, 32205\, United States
ORGANIZER;CN="Dannielle Caldwell":MAILTO:info@musictherapynow.net
END:VEVENT
BEGIN:VEVENT
DTSTART;TZID=America/New_York:20290927T100000
DTEND;TZID=America/New_York:20290927T103000
DTSTAMP:20260425T174609
CREATED:20260120T001655Z
LAST-MODIFIED:20260316T153434Z
UID:10003729-1885197600-1885199400@happymediumbookscafe.com
SUMMARY:Happy Little Melodies
DESCRIPTION:Join us for music\, movement\, and memory-making with your little one in this cozy\, welcoming space! \n Reserve your spot before they’re gone: www.musictherapynow.net/happylittlemelodies
URL:https://happymediumbookscafe.com/events/happy-little-melodies-6/2029-09-27/
LOCATION:Happy Medium Books Cafe\, 2724 Park St\, Jacksonville\, FL\, 32205\, United States
ORGANIZER;CN="Dannielle Caldwell":MAILTO:info@musictherapynow.net
END:VEVENT
BEGIN:VEVENT
DTSTART;TZID=America/New_York:20291004T100000
DTEND;TZID=America/New_York:20291004T103000
DTSTAMP:20260425T174609
CREATED:20260120T001655Z
LAST-MODIFIED:20260316T153434Z
UID:10003730-1885802400-1885804200@happymediumbookscafe.com
SUMMARY:Happy Little Melodies
DESCRIPTION:Join us for music\, movement\, and memory-making with your little one in this cozy\, welcoming space! \n Reserve your spot before they’re gone: www.musictherapynow.net/happylittlemelodies
URL:https://happymediumbookscafe.com/events/happy-little-melodies-6/2029-10-04/
LOCATION:Happy Medium Books Cafe\, 2724 Park St\, Jacksonville\, FL\, 32205\, United States
ORGANIZER;CN="Dannielle Caldwell":MAILTO:info@musictherapynow.net
END:VEVENT
BEGIN:VEVENT
DTSTART;TZID=America/New_York:20291011T100000
DTEND;TZID=America/New_York:20291011T103000
DTSTAMP:20260425T174609
CREATED:20260120T001655Z
LAST-MODIFIED:20260316T153434Z
UID:10003731-1886407200-1886409000@happymediumbookscafe.com
SUMMARY:Happy Little Melodies
DESCRIPTION:Join us for music\, movement\, and memory-making with your little one in this cozy\, welcoming space! \n Reserve your spot before they’re gone: www.musictherapynow.net/happylittlemelodies
URL:https://happymediumbookscafe.com/events/happy-little-melodies-6/2029-10-11/
LOCATION:Happy Medium Books Cafe\, 2724 Park St\, Jacksonville\, FL\, 32205\, United States
ORGANIZER;CN="Dannielle Caldwell":MAILTO:info@musictherapynow.net
END:VEVENT
BEGIN:VEVENT
DTSTART;TZID=America/New_York:20291018T100000
DTEND;TZID=America/New_York:20291018T103000
DTSTAMP:20260425T174609
CREATED:20260120T001655Z
LAST-MODIFIED:20260316T153434Z
UID:10003732-1887012000-1887013800@happymediumbookscafe.com
SUMMARY:Happy Little Melodies
DESCRIPTION:Join us for music\, movement\, and memory-making with your little one in this cozy\, welcoming space! \n Reserve your spot before they’re gone: www.musictherapynow.net/happylittlemelodies
URL:https://happymediumbookscafe.com/events/happy-little-melodies-6/2029-10-18/
LOCATION:Happy Medium Books Cafe\, 2724 Park St\, Jacksonville\, FL\, 32205\, United States
ORGANIZER;CN="Dannielle Caldwell":MAILTO:info@musictherapynow.net
END:VEVENT
BEGIN:VEVENT
DTSTART;TZID=America/New_York:20291025T100000
DTEND;TZID=America/New_York:20291025T103000
DTSTAMP:20260425T174609
CREATED:20260120T001655Z
LAST-MODIFIED:20260316T153434Z
UID:10003733-1887616800-1887618600@happymediumbookscafe.com
SUMMARY:Happy Little Melodies
DESCRIPTION:Join us for music\, movement\, and memory-making with your little one in this cozy\, welcoming space! \n Reserve your spot before they’re gone: www.musictherapynow.net/happylittlemelodies
URL:https://happymediumbookscafe.com/events/happy-little-melodies-6/2029-10-25/
LOCATION:Happy Medium Books Cafe\, 2724 Park St\, Jacksonville\, FL\, 32205\, United States
ORGANIZER;CN="Dannielle Caldwell":MAILTO:info@musictherapynow.net
END:VEVENT
BEGIN:VEVENT
DTSTART;TZID=America/New_York:20291101T100000
DTEND;TZID=America/New_York:20291101T103000
DTSTAMP:20260425T174609
CREATED:20260120T001655Z
LAST-MODIFIED:20260316T153434Z
UID:10003734-1888221600-1888223400@happymediumbookscafe.com
SUMMARY:Happy Little Melodies
DESCRIPTION:Join us for music\, movement\, and memory-making with your little one in this cozy\, welcoming space! \n Reserve your spot before they’re gone: www.musictherapynow.net/happylittlemelodies
URL:https://happymediumbookscafe.com/events/happy-little-melodies-6/2029-11-01/
LOCATION:Happy Medium Books Cafe\, 2724 Park St\, Jacksonville\, FL\, 32205\, United States
ORGANIZER;CN="Dannielle Caldwell":MAILTO:info@musictherapynow.net
END:VEVENT
BEGIN:VEVENT
DTSTART;TZID=America/New_York:20291108T100000
DTEND;TZID=America/New_York:20291108T103000
DTSTAMP:20260425T174609
CREATED:20260120T001655Z
LAST-MODIFIED:20260316T153434Z
UID:10003735-1888826400-1888828200@happymediumbookscafe.com
SUMMARY:Happy Little Melodies
DESCRIPTION:Join us for music\, movement\, and memory-making with your little one in this cozy\, welcoming space! \n Reserve your spot before they’re gone: www.musictherapynow.net/happylittlemelodies
URL:https://happymediumbookscafe.com/events/happy-little-melodies-6/2029-11-08/
LOCATION:Happy Medium Books Cafe\, 2724 Park St\, Jacksonville\, FL\, 32205\, United States
ORGANIZER;CN="Dannielle Caldwell":MAILTO:info@musictherapynow.net
END:VEVENT
BEGIN:VEVENT
DTSTART;TZID=America/New_York:20291115T100000
DTEND;TZID=America/New_York:20291115T103000
DTSTAMP:20260425T174609
CREATED:20260120T001655Z
LAST-MODIFIED:20260316T153434Z
UID:10003736-1889431200-1889433000@happymediumbookscafe.com
SUMMARY:Happy Little Melodies
DESCRIPTION:Join us for music\, movement\, and memory-making with your little one in this cozy\, welcoming space! \n Reserve your spot before they’re gone: www.musictherapynow.net/happylittlemelodies
URL:https://happymediumbookscafe.com/events/happy-little-melodies-6/2029-11-15/
LOCATION:Happy Medium Books Cafe\, 2724 Park St\, Jacksonville\, FL\, 32205\, United States
ORGANIZER;CN="Dannielle Caldwell":MAILTO:info@musictherapynow.net
END:VEVENT
END:VCALENDAR