BEGIN:VCALENDAR
VERSION:2.0
PRODID:-//Best bookstore café in Jacksonville, FL | Happy Medium Books Café - ECPv6.15.11//NONSGML v1.0//EN
CALSCALE:GREGORIAN
METHOD:PUBLISH
X-WR-CALNAME:Best bookstore café in Jacksonville, FL | Happy Medium Books Café
X-ORIGINAL-URL:https://happymediumbookscafe.com
X-WR-CALDESC:Events for Best bookstore café in Jacksonville, FL | Happy Medium Books Café
REFRESH-INTERVAL;VALUE=DURATION:PT1H
X-Robots-Tag:noindex
X-PUBLISHED-TTL:PT1H
BEGIN:VTIMEZONE
TZID:America/New_York
BEGIN:DAYLIGHT
TZOFFSETFROM:-0500
TZOFFSETTO:-0400
TZNAME:EDT
DTSTART:20250309T070000
END:DAYLIGHT
BEGIN:STANDARD
TZOFFSETFROM:-0400
TZOFFSETTO:-0500
TZNAME:EST
DTSTART:20251102T060000
END:STANDARD
BEGIN:DAYLIGHT
TZOFFSETFROM:-0500
TZOFFSETTO:-0400
TZNAME:EDT
DTSTART:20260308T070000
END:DAYLIGHT
BEGIN:STANDARD
TZOFFSETFROM:-0400
TZOFFSETTO:-0500
TZNAME:EST
DTSTART:20261101T060000
END:STANDARD
BEGIN:DAYLIGHT
TZOFFSETFROM:-0500
TZOFFSETTO:-0400
TZNAME:EDT
DTSTART:20270314T070000
END:DAYLIGHT
BEGIN:STANDARD
TZOFFSETFROM:-0400
TZOFFSETTO:-0500
TZNAME:EST
DTSTART:20271107T060000
END:STANDARD
END:VTIMEZONE
BEGIN:VEVENT
DTSTART;TZID=America/New_York:20260521T100000
DTEND;TZID=America/New_York:20260521T103000
DTSTAMP:20260423T082700
CREATED:20260120T001655Z
LAST-MODIFIED:20260316T153434Z
UID:10003554-1779357600-1779359400@happymediumbookscafe.com
SUMMARY:Happy Little Melodies
DESCRIPTION:Join us for music\, movement\, and memory-making with your little one in this cozy\, welcoming space! \n Reserve your spot before they’re gone: www.musictherapynow.net/happylittlemelodies
URL:https://happymediumbookscafe.com/events/happy-little-melodies-6/2026-05-21/
LOCATION:Happy Medium Books Cafe\, 2724 Park St\, Jacksonville\, FL\, 32205\, United States
ORGANIZER;CN="Dannielle Caldwell":MAILTO:info@musictherapynow.net
END:VEVENT
BEGIN:VEVENT
DTSTART;TZID=America/New_York:20260521T170000
DTEND;TZID=America/New_York:20260521T190000
DTSTAMP:20260423T082700
CREATED:20260410T143523Z
LAST-MODIFIED:20260422T142652Z
UID:10003955-1779382800-1779390000@happymediumbookscafe.com
SUMMARY:Yarning
DESCRIPTION:Join other Yarners at the cafe with your knitting or crochet project. \nBring a friend or make new ones. \nAll are welcome!
URL:https://happymediumbookscafe.com/events/yarning-5/2026-05-21/
LOCATION:Happy Medium Books Cafe\, 2724 Park St\, Jacksonville\, FL\, 32205\, United States
ATTACH;FMTTYPE=image/png:https://happymediumbookscafe.com/wp-content/uploads/2026/04/Copy-of-Get-Hooked-on-Yarning-at-Happy-Medium-Books-Cafe-12.png
END:VEVENT
BEGIN:VEVENT
DTSTART;TZID=America/New_York:20260521T180000
DTEND;TZID=America/New_York:20260521T210000
DTSTAMP:20260423T082700
CREATED:20250611T000007Z
LAST-MODIFIED:20250611T000034Z
UID:10002405-1779386400-1779397200@happymediumbookscafe.com
SUMMARY:Park After Dark
DESCRIPTION:
URL:https://happymediumbookscafe.com/events/park-after-dark/2026-05-21/
LOCATION:FL
END:VEVENT
BEGIN:VEVENT
DTSTART;TZID=America/New_York:20260523T110000
DTEND;TZID=America/New_York:20260523T130000
DTSTAMP:20260423T082700
CREATED:20260422T160747Z
LAST-MODIFIED:20260422T160747Z
UID:10003973-1779534000-1779541200@happymediumbookscafe.com
SUMMARY:Pop up Author Event- Rachel Lover
DESCRIPTION:
URL:https://happymediumbookscafe.com/events/pop-up-author-event-rachel-lover/
LOCATION:Happy Medium Books Cafe\, 2724 Park St\, Jacksonville\, FL\, 32205\, United States
END:VEVENT
BEGIN:VEVENT
DTSTART;TZID=America/New_York:20260525T150000
DTEND;TZID=America/New_York:20260525T170000
DTSTAMP:20260423T082700
CREATED:20260101T030723Z
LAST-MODIFIED:20260101T030725Z
UID:10003279-1779721200-1779728400@happymediumbookscafe.com
SUMMARY:Mahjong Meet Ups
DESCRIPTION:If you KNOW how to play Mahjong and are wanting to meet up and play\, this is for you!  \nJoin our group and get our Group Me notifications about upcoming Meet Ups. \nContact the store to get on our list! \nAll skills welcome. \nGame and 2025 cards are provided.
URL:https://happymediumbookscafe.com/events/mahjong-meet-ups/2026-05-25/
LOCATION:Happy Medium Books Cafe\, 2724 Park St\, Jacksonville\, FL\, 32205\, United States
ATTACH;FMTTYPE=image/png:https://happymediumbookscafe.com/wp-content/uploads/2026/01/756E1529-F788-49D7-8AD2-FB8A01A15DD7.png
END:VEVENT
BEGIN:VEVENT
DTSTART;TZID=America/New_York:20260526T190000
DTEND;TZID=America/New_York:20260526T203000
DTSTAMP:20260423T082700
CREATED:20260422T143349Z
LAST-MODIFIED:20260422T143351Z
UID:10003971-1779822000-1779827400@happymediumbookscafe.com
SUMMARY:Not Your Mother's Book Club
DESCRIPTION:Join us at the cafe as we discuss Molka by Monika Kim. \nAs always\, Happy Medium Book Club Books are 20% off at Happy Medium. \nBring a friend or make new ones!
URL:https://happymediumbookscafe.com/events/not-your-mothers-book-club-9/
LOCATION:Happy Medium Books Cafe\, 2724 Park St\, Jacksonville\, FL\, 32205\, United States
ATTACH;FMTTYPE=image/png:https://happymediumbookscafe.com/wp-content/uploads/2026/04/3.png
END:VEVENT
BEGIN:VEVENT
DTSTART;TZID=America/New_York:20260527T190000
DTEND;TZID=America/New_York:20260527T200000
DTSTAMP:20260423T082700
CREATED:20260418T163340Z
LAST-MODIFIED:20260418T163342Z
UID:10003965-1779908400-1779912000@happymediumbookscafe.com
SUMMARY:A Seat At Our Table
DESCRIPTION:Join us at the café as we discuss Pachinko by Min Jin Lee. \nAs always\, Happy Medium book club books are 20% off at Happy Medium Books Café. \n 
URL:https://happymediumbookscafe.com/events/a-seat-at-our-table/
LOCATION:Happy Medium Books Cafe\, 2724 Park St\, Jacksonville\, FL\, 32205\, United States
ATTACH;FMTTYPE=image/png:https://happymediumbookscafe.com/wp-content/uploads/2026/04/A-Seat-at-Our-Table-May-5.png
END:VEVENT
BEGIN:VEVENT
DTSTART;TZID=America/New_York:20260528T100000
DTEND;TZID=America/New_York:20260528T103000
DTSTAMP:20260423T082700
CREATED:20260120T001655Z
LAST-MODIFIED:20260316T153434Z
UID:10003555-1779962400-1779964200@happymediumbookscafe.com
SUMMARY:Happy Little Melodies
DESCRIPTION:Join us for music\, movement\, and memory-making with your little one in this cozy\, welcoming space! \n Reserve your spot before they’re gone: www.musictherapynow.net/happylittlemelodies
URL:https://happymediumbookscafe.com/events/happy-little-melodies-6/2026-05-28/
LOCATION:Happy Medium Books Cafe\, 2724 Park St\, Jacksonville\, FL\, 32205\, United States
ORGANIZER;CN="Dannielle Caldwell":MAILTO:info@musictherapynow.net
END:VEVENT
BEGIN:VEVENT
DTSTART;TZID=America/New_York:20260530T110000
DTEND;TZID=America/New_York:20260530T140000
DTSTAMP:20260423T082700
CREATED:20260422T160934Z
LAST-MODIFIED:20260422T161712Z
UID:10003974-1780138800-1780149600@happymediumbookscafe.com
SUMMARY:Pop up Author Event with Amanda Houghton
DESCRIPTION:
URL:https://happymediumbookscafe.com/events/pop-up-author-event-with-amanda-houghton/
LOCATION:Happy Medium Books Cafe\, 2724 Park St\, Jacksonville\, FL\, 32205\, United States
END:VEVENT
BEGIN:VEVENT
DTSTART;TZID=America/New_York:20260531T140000
DTEND;TZID=America/New_York:20260531T160000
DTSTAMP:20260423T082700
CREATED:20260422T160541Z
LAST-MODIFIED:20260422T160543Z
UID:10003972-1780236000-1780243200@happymediumbookscafe.com
SUMMARY:Stitch 'n Stories: Bookish Embroidery Workshop
DESCRIPTION:Want to create an embroidered memory of your reading… a wearable reading or tote journal? \nThis Bookish Embroidery workshop is just for you! \nJoin us at the cafe and either: \na. Bring a sweatshirt or tote you would like to embroider. \nb. Purchase a Happy Medium tote at a discounted price to embroider. \nWe’ll supply the rest!
URL:https://happymediumbookscafe.com/events/stitch-n-stories-bookish-embroidery-workshop/
LOCATION:Happy Medium Books Cafe\, 2724 Park St\, Jacksonville\, FL\, 32205\, United States
ATTACH;FMTTYPE=image/png:https://happymediumbookscafe.com/wp-content/uploads/2026/04/Book-embroidery-flyer-Instagram-Post-4_5_20260416_111545_0000.png
END:VEVENT
BEGIN:VEVENT
DTSTART;TZID=America/New_York:20260601T150000
DTEND;TZID=America/New_York:20260601T170000
DTSTAMP:20260423T082700
CREATED:20260101T030723Z
LAST-MODIFIED:20260101T030725Z
UID:10003280-1780326000-1780333200@happymediumbookscafe.com
SUMMARY:Mahjong Meet Ups
DESCRIPTION:If you KNOW how to play Mahjong and are wanting to meet up and play\, this is for you!  \nJoin our group and get our Group Me notifications about upcoming Meet Ups. \nContact the store to get on our list! \nAll skills welcome. \nGame and 2025 cards are provided.
URL:https://happymediumbookscafe.com/events/mahjong-meet-ups/2026-06-01/
LOCATION:Happy Medium Books Cafe\, 2724 Park St\, Jacksonville\, FL\, 32205\, United States
ATTACH;FMTTYPE=image/png:https://happymediumbookscafe.com/wp-content/uploads/2026/01/756E1529-F788-49D7-8AD2-FB8A01A15DD7.png
END:VEVENT
BEGIN:VEVENT
DTSTART;TZID=America/New_York:20260604T100000
DTEND;TZID=America/New_York:20260604T103000
DTSTAMP:20260423T082700
CREATED:20260120T001655Z
LAST-MODIFIED:20260316T153434Z
UID:10003556-1780567200-1780569000@happymediumbookscafe.com
SUMMARY:Happy Little Melodies
DESCRIPTION:Join us for music\, movement\, and memory-making with your little one in this cozy\, welcoming space! \n Reserve your spot before they’re gone: www.musictherapynow.net/happylittlemelodies
URL:https://happymediumbookscafe.com/events/happy-little-melodies-6/2026-06-04/
LOCATION:Happy Medium Books Cafe\, 2724 Park St\, Jacksonville\, FL\, 32205\, United States
ORGANIZER;CN="Dannielle Caldwell":MAILTO:info@musictherapynow.net
END:VEVENT
BEGIN:VEVENT
DTSTART;TZID=America/New_York:20260608T150000
DTEND;TZID=America/New_York:20260608T170000
DTSTAMP:20260423T082700
CREATED:20260101T030723Z
LAST-MODIFIED:20260101T030725Z
UID:10003281-1780930800-1780938000@happymediumbookscafe.com
SUMMARY:Mahjong Meet Ups
DESCRIPTION:If you KNOW how to play Mahjong and are wanting to meet up and play\, this is for you!  \nJoin our group and get our Group Me notifications about upcoming Meet Ups. \nContact the store to get on our list! \nAll skills welcome. \nGame and 2025 cards are provided.
URL:https://happymediumbookscafe.com/events/mahjong-meet-ups/2026-06-08/
LOCATION:Happy Medium Books Cafe\, 2724 Park St\, Jacksonville\, FL\, 32205\, United States
ATTACH;FMTTYPE=image/png:https://happymediumbookscafe.com/wp-content/uploads/2026/01/756E1529-F788-49D7-8AD2-FB8A01A15DD7.png
END:VEVENT
BEGIN:VEVENT
DTSTART;TZID=America/New_York:20260611T100000
DTEND;TZID=America/New_York:20260611T103000
DTSTAMP:20260423T082700
CREATED:20260120T001655Z
LAST-MODIFIED:20260316T153434Z
UID:10003557-1781172000-1781173800@happymediumbookscafe.com
SUMMARY:Happy Little Melodies
DESCRIPTION:Join us for music\, movement\, and memory-making with your little one in this cozy\, welcoming space! \n Reserve your spot before they’re gone: www.musictherapynow.net/happylittlemelodies
URL:https://happymediumbookscafe.com/events/happy-little-melodies-6/2026-06-11/
LOCATION:Happy Medium Books Cafe\, 2724 Park St\, Jacksonville\, FL\, 32205\, United States
ORGANIZER;CN="Dannielle Caldwell":MAILTO:info@musictherapynow.net
END:VEVENT
BEGIN:VEVENT
DTSTART;TZID=America/New_York:20260615T150000
DTEND;TZID=America/New_York:20260615T170000
DTSTAMP:20260423T082700
CREATED:20260101T030723Z
LAST-MODIFIED:20260101T030725Z
UID:10003282-1781535600-1781542800@happymediumbookscafe.com
SUMMARY:Mahjong Meet Ups
DESCRIPTION:If you KNOW how to play Mahjong and are wanting to meet up and play\, this is for you!  \nJoin our group and get our Group Me notifications about upcoming Meet Ups. \nContact the store to get on our list! \nAll skills welcome. \nGame and 2025 cards are provided.
URL:https://happymediumbookscafe.com/events/mahjong-meet-ups/2026-06-15/
LOCATION:Happy Medium Books Cafe\, 2724 Park St\, Jacksonville\, FL\, 32205\, United States
ATTACH;FMTTYPE=image/png:https://happymediumbookscafe.com/wp-content/uploads/2026/01/756E1529-F788-49D7-8AD2-FB8A01A15DD7.png
END:VEVENT
BEGIN:VEVENT
DTSTART;TZID=America/New_York:20260618T100000
DTEND;TZID=America/New_York:20260618T103000
DTSTAMP:20260423T082701
CREATED:20260120T001655Z
LAST-MODIFIED:20260316T153434Z
UID:10003558-1781776800-1781778600@happymediumbookscafe.com
SUMMARY:Happy Little Melodies
DESCRIPTION:Join us for music\, movement\, and memory-making with your little one in this cozy\, welcoming space! \n Reserve your spot before they’re gone: www.musictherapynow.net/happylittlemelodies
URL:https://happymediumbookscafe.com/events/happy-little-melodies-6/2026-06-18/
LOCATION:Happy Medium Books Cafe\, 2724 Park St\, Jacksonville\, FL\, 32205\, United States
ORGANIZER;CN="Dannielle Caldwell":MAILTO:info@musictherapynow.net
END:VEVENT
BEGIN:VEVENT
DTSTART;TZID=America/New_York:20260618T180000
DTEND;TZID=America/New_York:20260618T210000
DTSTAMP:20260423T082701
CREATED:20250611T000007Z
LAST-MODIFIED:20250611T000034Z
UID:10002406-1781805600-1781816400@happymediumbookscafe.com
SUMMARY:Park After Dark
DESCRIPTION:
URL:https://happymediumbookscafe.com/events/park-after-dark/2026-06-18/
LOCATION:FL
END:VEVENT
BEGIN:VEVENT
DTSTART;TZID=America/New_York:20260622T150000
DTEND;TZID=America/New_York:20260622T170000
DTSTAMP:20260423T082701
CREATED:20260101T030723Z
LAST-MODIFIED:20260101T030725Z
UID:10003283-1782140400-1782147600@happymediumbookscafe.com
SUMMARY:Mahjong Meet Ups
DESCRIPTION:If you KNOW how to play Mahjong and are wanting to meet up and play\, this is for you!  \nJoin our group and get our Group Me notifications about upcoming Meet Ups. \nContact the store to get on our list! \nAll skills welcome. \nGame and 2025 cards are provided.
URL:https://happymediumbookscafe.com/events/mahjong-meet-ups/2026-06-22/
LOCATION:Happy Medium Books Cafe\, 2724 Park St\, Jacksonville\, FL\, 32205\, United States
ATTACH;FMTTYPE=image/png:https://happymediumbookscafe.com/wp-content/uploads/2026/01/756E1529-F788-49D7-8AD2-FB8A01A15DD7.png
END:VEVENT
BEGIN:VEVENT
DTSTART;TZID=America/New_York:20260625T100000
DTEND;TZID=America/New_York:20260625T103000
DTSTAMP:20260423T082701
CREATED:20260120T001655Z
LAST-MODIFIED:20260316T153434Z
UID:10003559-1782381600-1782383400@happymediumbookscafe.com
SUMMARY:Happy Little Melodies
DESCRIPTION:Join us for music\, movement\, and memory-making with your little one in this cozy\, welcoming space! \n Reserve your spot before they’re gone: www.musictherapynow.net/happylittlemelodies
URL:https://happymediumbookscafe.com/events/happy-little-melodies-6/2026-06-25/
LOCATION:Happy Medium Books Cafe\, 2724 Park St\, Jacksonville\, FL\, 32205\, United States
ORGANIZER;CN="Dannielle Caldwell":MAILTO:info@musictherapynow.net
END:VEVENT
BEGIN:VEVENT
DTSTART;TZID=America/New_York:20260629T150000
DTEND;TZID=America/New_York:20260629T170000
DTSTAMP:20260423T082701
CREATED:20260101T030723Z
LAST-MODIFIED:20260101T030725Z
UID:10003284-1782745200-1782752400@happymediumbookscafe.com
SUMMARY:Mahjong Meet Ups
DESCRIPTION:If you KNOW how to play Mahjong and are wanting to meet up and play\, this is for you!  \nJoin our group and get our Group Me notifications about upcoming Meet Ups. \nContact the store to get on our list! \nAll skills welcome. \nGame and 2025 cards are provided.
URL:https://happymediumbookscafe.com/events/mahjong-meet-ups/2026-06-29/
LOCATION:Happy Medium Books Cafe\, 2724 Park St\, Jacksonville\, FL\, 32205\, United States
ATTACH;FMTTYPE=image/png:https://happymediumbookscafe.com/wp-content/uploads/2026/01/756E1529-F788-49D7-8AD2-FB8A01A15DD7.png
END:VEVENT
BEGIN:VEVENT
DTSTART;TZID=America/New_York:20260702T100000
DTEND;TZID=America/New_York:20260702T103000
DTSTAMP:20260423T082701
CREATED:20260120T001655Z
LAST-MODIFIED:20260316T153434Z
UID:10003560-1782986400-1782988200@happymediumbookscafe.com
SUMMARY:Happy Little Melodies
DESCRIPTION:Join us for music\, movement\, and memory-making with your little one in this cozy\, welcoming space! \n Reserve your spot before they’re gone: www.musictherapynow.net/happylittlemelodies
URL:https://happymediumbookscafe.com/events/happy-little-melodies-6/2026-07-02/
LOCATION:Happy Medium Books Cafe\, 2724 Park St\, Jacksonville\, FL\, 32205\, United States
ORGANIZER;CN="Dannielle Caldwell":MAILTO:info@musictherapynow.net
END:VEVENT
BEGIN:VEVENT
DTSTART;TZID=America/New_York:20260706T150000
DTEND;TZID=America/New_York:20260706T170000
DTSTAMP:20260423T082701
CREATED:20260101T030723Z
LAST-MODIFIED:20260101T030725Z
UID:10003285-1783350000-1783357200@happymediumbookscafe.com
SUMMARY:Mahjong Meet Ups
DESCRIPTION:If you KNOW how to play Mahjong and are wanting to meet up and play\, this is for you!  \nJoin our group and get our Group Me notifications about upcoming Meet Ups. \nContact the store to get on our list! \nAll skills welcome. \nGame and 2025 cards are provided.
URL:https://happymediumbookscafe.com/events/mahjong-meet-ups/2026-07-06/
LOCATION:Happy Medium Books Cafe\, 2724 Park St\, Jacksonville\, FL\, 32205\, United States
ATTACH;FMTTYPE=image/png:https://happymediumbookscafe.com/wp-content/uploads/2026/01/756E1529-F788-49D7-8AD2-FB8A01A15DD7.png
END:VEVENT
BEGIN:VEVENT
DTSTART;TZID=America/New_York:20260709T100000
DTEND;TZID=America/New_York:20260709T103000
DTSTAMP:20260423T082701
CREATED:20260120T001655Z
LAST-MODIFIED:20260316T153434Z
UID:10003561-1783591200-1783593000@happymediumbookscafe.com
SUMMARY:Happy Little Melodies
DESCRIPTION:Join us for music\, movement\, and memory-making with your little one in this cozy\, welcoming space! \n Reserve your spot before they’re gone: www.musictherapynow.net/happylittlemelodies
URL:https://happymediumbookscafe.com/events/happy-little-melodies-6/2026-07-09/
LOCATION:Happy Medium Books Cafe\, 2724 Park St\, Jacksonville\, FL\, 32205\, United States
ORGANIZER;CN="Dannielle Caldwell":MAILTO:info@musictherapynow.net
END:VEVENT
BEGIN:VEVENT
DTSTART;TZID=America/New_York:20260713T150000
DTEND;TZID=America/New_York:20260713T170000
DTSTAMP:20260423T082701
CREATED:20260101T030723Z
LAST-MODIFIED:20260101T030725Z
UID:10003286-1783954800-1783962000@happymediumbookscafe.com
SUMMARY:Mahjong Meet Ups
DESCRIPTION:If you KNOW how to play Mahjong and are wanting to meet up and play\, this is for you!  \nJoin our group and get our Group Me notifications about upcoming Meet Ups. \nContact the store to get on our list! \nAll skills welcome. \nGame and 2025 cards are provided.
URL:https://happymediumbookscafe.com/events/mahjong-meet-ups/2026-07-13/
LOCATION:Happy Medium Books Cafe\, 2724 Park St\, Jacksonville\, FL\, 32205\, United States
ATTACH;FMTTYPE=image/png:https://happymediumbookscafe.com/wp-content/uploads/2026/01/756E1529-F788-49D7-8AD2-FB8A01A15DD7.png
END:VEVENT
BEGIN:VEVENT
DTSTART;TZID=America/New_York:20260716T100000
DTEND;TZID=America/New_York:20260716T103000
DTSTAMP:20260423T082701
CREATED:20260120T001655Z
LAST-MODIFIED:20260316T153434Z
UID:10003562-1784196000-1784197800@happymediumbookscafe.com
SUMMARY:Happy Little Melodies
DESCRIPTION:Join us for music\, movement\, and memory-making with your little one in this cozy\, welcoming space! \n Reserve your spot before they’re gone: www.musictherapynow.net/happylittlemelodies
URL:https://happymediumbookscafe.com/events/happy-little-melodies-6/2026-07-16/
LOCATION:Happy Medium Books Cafe\, 2724 Park St\, Jacksonville\, FL\, 32205\, United States
ORGANIZER;CN="Dannielle Caldwell":MAILTO:info@musictherapynow.net
END:VEVENT
BEGIN:VEVENT
DTSTART;TZID=America/New_York:20260716T180000
DTEND;TZID=America/New_York:20260716T210000
DTSTAMP:20260423T082701
CREATED:20250611T000007Z
LAST-MODIFIED:20250611T000034Z
UID:10002407-1784224800-1784235600@happymediumbookscafe.com
SUMMARY:Park After Dark
DESCRIPTION:
URL:https://happymediumbookscafe.com/events/park-after-dark/2026-07-16/
LOCATION:FL
END:VEVENT
BEGIN:VEVENT
DTSTART;TZID=America/New_York:20260720T150000
DTEND;TZID=America/New_York:20260720T170000
DTSTAMP:20260423T082701
CREATED:20260101T030723Z
LAST-MODIFIED:20260101T030725Z
UID:10003287-1784559600-1784566800@happymediumbookscafe.com
SUMMARY:Mahjong Meet Ups
DESCRIPTION:If you KNOW how to play Mahjong and are wanting to meet up and play\, this is for you!  \nJoin our group and get our Group Me notifications about upcoming Meet Ups. \nContact the store to get on our list! \nAll skills welcome. \nGame and 2025 cards are provided.
URL:https://happymediumbookscafe.com/events/mahjong-meet-ups/2026-07-20/
LOCATION:Happy Medium Books Cafe\, 2724 Park St\, Jacksonville\, FL\, 32205\, United States
ATTACH;FMTTYPE=image/png:https://happymediumbookscafe.com/wp-content/uploads/2026/01/756E1529-F788-49D7-8AD2-FB8A01A15DD7.png
END:VEVENT
BEGIN:VEVENT
DTSTART;TZID=America/New_York:20260723T100000
DTEND;TZID=America/New_York:20260723T103000
DTSTAMP:20260423T082701
CREATED:20260120T001655Z
LAST-MODIFIED:20260316T153434Z
UID:10003563-1784800800-1784802600@happymediumbookscafe.com
SUMMARY:Happy Little Melodies
DESCRIPTION:Join us for music\, movement\, and memory-making with your little one in this cozy\, welcoming space! \n Reserve your spot before they’re gone: www.musictherapynow.net/happylittlemelodies
URL:https://happymediumbookscafe.com/events/happy-little-melodies-6/2026-07-23/
LOCATION:Happy Medium Books Cafe\, 2724 Park St\, Jacksonville\, FL\, 32205\, United States
ORGANIZER;CN="Dannielle Caldwell":MAILTO:info@musictherapynow.net
END:VEVENT
BEGIN:VEVENT
DTSTART;TZID=America/New_York:20260727T150000
DTEND;TZID=America/New_York:20260727T170000
DTSTAMP:20260423T082701
CREATED:20260101T030723Z
LAST-MODIFIED:20260101T030725Z
UID:10003288-1785164400-1785171600@happymediumbookscafe.com
SUMMARY:Mahjong Meet Ups
DESCRIPTION:If you KNOW how to play Mahjong and are wanting to meet up and play\, this is for you!  \nJoin our group and get our Group Me notifications about upcoming Meet Ups. \nContact the store to get on our list! \nAll skills welcome. \nGame and 2025 cards are provided.
URL:https://happymediumbookscafe.com/events/mahjong-meet-ups/2026-07-27/
LOCATION:Happy Medium Books Cafe\, 2724 Park St\, Jacksonville\, FL\, 32205\, United States
ATTACH;FMTTYPE=image/png:https://happymediumbookscafe.com/wp-content/uploads/2026/01/756E1529-F788-49D7-8AD2-FB8A01A15DD7.png
END:VEVENT
BEGIN:VEVENT
DTSTART;TZID=America/New_York:20260730T100000
DTEND;TZID=America/New_York:20260730T103000
DTSTAMP:20260423T082701
CREATED:20260120T001655Z
LAST-MODIFIED:20260316T153434Z
UID:10003564-1785405600-1785407400@happymediumbookscafe.com
SUMMARY:Happy Little Melodies
DESCRIPTION:Join us for music\, movement\, and memory-making with your little one in this cozy\, welcoming space! \n Reserve your spot before they’re gone: www.musictherapynow.net/happylittlemelodies
URL:https://happymediumbookscafe.com/events/happy-little-melodies-6/2026-07-30/
LOCATION:Happy Medium Books Cafe\, 2724 Park St\, Jacksonville\, FL\, 32205\, United States
ORGANIZER;CN="Dannielle Caldwell":MAILTO:info@musictherapynow.net
END:VEVENT
END:VCALENDAR