BEGIN:VCALENDAR
VERSION:2.0
PRODID:-//Best bookstore café in Jacksonville, FL | Happy Medium Books Café - ECPv6.15.11//NONSGML v1.0//EN
CALSCALE:GREGORIAN
METHOD:PUBLISH
X-ORIGINAL-URL:https://happymediumbookscafe.com
X-WR-CALDESC:Events for Best bookstore café in Jacksonville, FL | Happy Medium Books Café
REFRESH-INTERVAL;VALUE=DURATION:PT1H
X-Robots-Tag:noindex
X-PUBLISHED-TTL:PT1H
BEGIN:VTIMEZONE
TZID:America/New_York
BEGIN:DAYLIGHT
TZOFFSETFROM:-0500
TZOFFSETTO:-0400
TZNAME:EDT
DTSTART:20250309T070000
END:DAYLIGHT
BEGIN:STANDARD
TZOFFSETFROM:-0400
TZOFFSETTO:-0500
TZNAME:EST
DTSTART:20251102T060000
END:STANDARD
BEGIN:DAYLIGHT
TZOFFSETFROM:-0500
TZOFFSETTO:-0400
TZNAME:EDT
DTSTART:20260308T070000
END:DAYLIGHT
BEGIN:STANDARD
TZOFFSETFROM:-0400
TZOFFSETTO:-0500
TZNAME:EST
DTSTART:20261101T060000
END:STANDARD
BEGIN:DAYLIGHT
TZOFFSETFROM:-0500
TZOFFSETTO:-0400
TZNAME:EDT
DTSTART:20270314T070000
END:DAYLIGHT
BEGIN:STANDARD
TZOFFSETFROM:-0400
TZOFFSETTO:-0500
TZNAME:EST
DTSTART:20271107T060000
END:STANDARD
END:VTIMEZONE
BEGIN:VEVENT
DTSTART;TZID=America/New_York:20260520T103000
DTEND;TZID=America/New_York:20260520T233000
DTSTAMP:20260424T071838
CREATED:20260410T160508Z
LAST-MODIFIED:20260410T160510Z
UID:10003963-1779273000-1779319800@happymediumbookscafe.com
SUMMARY:Happy Medium Book Club
DESCRIPTION:Join us at the café as we discuss Leave Your Mess at Home by Tolani Akinola. \nAs always\, Happy Medium Book Club Books are 20% off at Happy Medium Books Café \nNo sign ups needed\, just show up. \nBring a friend\, or make new ones!
URL:https://happymediumbookscafe.com/events/happy-medium-book-club-5/
LOCATION:Happy Medium Books Cafe\, 2724 Park St\, Jacksonville\, FL\, 32205\, United States
ATTACH;FMTTYPE=image/png:https://happymediumbookscafe.com/wp-content/uploads/2026/04/Copy-of-HMBC-.png
END:VEVENT
BEGIN:VEVENT
DTSTART;TZID=America/New_York:20260520T180000
DTEND;TZID=America/New_York:20260520T200000
DTSTAMP:20260424T071838
CREATED:20260420T171045Z
LAST-MODIFIED:20260422T142817Z
UID:10003969-1779300000-1779307200@happymediumbookscafe.com
SUMMARY:Learn to Play Mahjong Night Class Day 2
DESCRIPTION:Must have attended Learn to Play Mahjong Day 1.
URL:https://happymediumbookscafe.com/events/learn-to-play-mahjong-night-class-day-2-2/
LOCATION:Happy Medium Books Cafe\, 2724 Park St\, Jacksonville\, FL\, 32205\, United States
ATTACH;FMTTYPE=image/png:https://happymediumbookscafe.com/wp-content/uploads/2026/04/May-Learn-to-Play-Mahjong-2.png
END:VEVENT
BEGIN:VEVENT
DTSTART;TZID=America/New_York:20260520T190000
DTEND;TZID=America/New_York:20260520T200000
DTSTAMP:20260424T071838
CREATED:20260410T161201Z
LAST-MODIFIED:20260410T161203Z
UID:10003964-1779303600-1779307200@happymediumbookscafe.com
SUMMARY:Wine Date With a Book
DESCRIPTION:Join us at Cork Thyme at All Spiced Up in Avondale to discuss These Tangled Vines by Julianne MacLean. \nAs always\, Happy Medium Book Club books are 20% off at Happy Medium Books Café. \nNo sign up needed\, just show up. \nBring a friend\, or make new ones!
URL:https://happymediumbookscafe.com/events/wine-date-with-a-book-4/
LOCATION:Cork Thyme @ All Spiced up Avondale\, 3543 St Johns Ave\, Jacksonville\, FL\, 32205
ATTACH;FMTTYPE=image/png:https://happymediumbookscafe.com/wp-content/uploads/2026/04/4.png
END:VEVENT
END:VCALENDAR