BEGIN:VCALENDAR
VERSION:2.0
PRODID:-//Best bookstore café in Jacksonville, FL | Happy Medium Books Café - ECPv6.15.11//NONSGML v1.0//EN
CALSCALE:GREGORIAN
METHOD:PUBLISH
X-ORIGINAL-URL:https://happymediumbookscafe.com
X-WR-CALDESC:Events for Best bookstore café in Jacksonville, FL | Happy Medium Books Café
REFRESH-INTERVAL;VALUE=DURATION:PT1H
X-Robots-Tag:noindex
X-PUBLISHED-TTL:PT1H
BEGIN:VTIMEZONE
TZID:America/New_York
BEGIN:DAYLIGHT
TZOFFSETFROM:-0500
TZOFFSETTO:-0400
TZNAME:EDT
DTSTART:20250309T070000
END:DAYLIGHT
BEGIN:STANDARD
TZOFFSETFROM:-0400
TZOFFSETTO:-0500
TZNAME:EST
DTSTART:20251102T060000
END:STANDARD
BEGIN:DAYLIGHT
TZOFFSETFROM:-0500
TZOFFSETTO:-0400
TZNAME:EDT
DTSTART:20260308T070000
END:DAYLIGHT
BEGIN:STANDARD
TZOFFSETFROM:-0400
TZOFFSETTO:-0500
TZNAME:EST
DTSTART:20261101T060000
END:STANDARD
BEGIN:DAYLIGHT
TZOFFSETFROM:-0500
TZOFFSETTO:-0400
TZNAME:EDT
DTSTART:20270314T070000
END:DAYLIGHT
BEGIN:STANDARD
TZOFFSETFROM:-0400
TZOFFSETTO:-0500
TZNAME:EST
DTSTART:20271107T060000
END:STANDARD
END:VTIMEZONE
BEGIN:VEVENT
DTSTART;TZID=America/New_York:20260517T140000
DTEND;TZID=America/New_York:20260517T160000
DTSTAMP:20260424T060319
CREATED:20260410T151731Z
LAST-MODIFIED:20260410T151925Z
UID:10003961-1779026400-1779033600@happymediumbookscafe.com
SUMMARY:Italian Cooking Class
DESCRIPTION:Spend an afternoon with Diana\, a passionate cook and expert in Italian cuisine\, as she guides you through the delightful process of making Homemade Ravioli from scratch. This immersive experience promises not only to teach you the art of crafting these delicious pasta pockets but also to share cherished family traditions passed down through generations. As you roll out the dough and fill it with a variety of mouth-watering ingredients\, you’ll learn the significance of each step in the process as Diana recounts how her grandmother taught her these time-honored techniques in their cozy kitchen. \nDuring this hands-on workshop\, you will not only master the technique of creating the perfect ravioli dough but also explore the various fillings that can be used. Diana will provide tips for balancing flavors and achieving the ideal texture\, ensuring your ravioli is both delicious and authentic. \nIn addition to the ravioli\, you will also learn how to prepare two traditional sauces that complement the pasta beautifully\, each with its unique flavor profile. Diana will share her grandmother’s secrets for achieving the perfect consistency and depth of flavor in each sauce\, elevating your homemade ravioli to a whole new level. \n \nThis culinary adventure will not only enhance your cooking skills but also deepen your appreciation for Italian cuisine and the love that goes into every dish. By the end of the afternoon\, you will have created a meal that is not just food but a heartfelt tribute to family traditions\, ready to be shared with friends and loved ones. Join Diana for this unforgettable experience\, where you will leave not only with newfound skills but also with a sense of connection to Italy’s rich culinary heritage. The class includes dinner. \n \nMenu: \n \nHomemade spinach and Ricotta Ravioli \nNonna’s Tomato Sauce \n(Nonna’s Recipe!) \nBrown Butter and Sage \n. \nThe ticket covers a 2.5-hour cooking class\, ingredients\, materials\, and a meal for either dinner or lunch.
URL:https://happymediumbookscafe.com/events/italian-cooking-class-5/
LOCATION:Happy Medium Books Cafe\, 2724 Park St\, Jacksonville\, FL\, 32205\, United States
ATTACH;FMTTYPE=image/png:https://happymediumbookscafe.com/wp-content/uploads/2026/04/Italian-Cooking-Class-5.png
END:VEVENT
END:VCALENDAR