BEGIN:VCALENDAR
VERSION:2.0
PRODID:-//Best bookstore café in Jacksonville, FL | Happy Medium Books Café - ECPv6.15.11//NONSGML v1.0//EN
CALSCALE:GREGORIAN
METHOD:PUBLISH
X-WR-CALNAME:Best bookstore café in Jacksonville, FL | Happy Medium Books Café
X-ORIGINAL-URL:https://happymediumbookscafe.com
X-WR-CALDESC:Events for Best bookstore café in Jacksonville, FL | Happy Medium Books Café
REFRESH-INTERVAL;VALUE=DURATION:PT1H
X-Robots-Tag:noindex
X-PUBLISHED-TTL:PT1H
BEGIN:VTIMEZONE
TZID:America/New_York
BEGIN:DAYLIGHT
TZOFFSETFROM:-0500
TZOFFSETTO:-0400
TZNAME:EDT
DTSTART:20250309T070000
END:DAYLIGHT
BEGIN:STANDARD
TZOFFSETFROM:-0400
TZOFFSETTO:-0500
TZNAME:EST
DTSTART:20251102T060000
END:STANDARD
BEGIN:DAYLIGHT
TZOFFSETFROM:-0500
TZOFFSETTO:-0400
TZNAME:EDT
DTSTART:20260308T070000
END:DAYLIGHT
BEGIN:STANDARD
TZOFFSETFROM:-0400
TZOFFSETTO:-0500
TZNAME:EST
DTSTART:20261101T060000
END:STANDARD
BEGIN:DAYLIGHT
TZOFFSETFROM:-0500
TZOFFSETTO:-0400
TZNAME:EDT
DTSTART:20270314T070000
END:DAYLIGHT
BEGIN:STANDARD
TZOFFSETFROM:-0400
TZOFFSETTO:-0500
TZNAME:EST
DTSTART:20271107T060000
END:STANDARD
END:VTIMEZONE
BEGIN:VEVENT
DTSTART;TZID=America/New_York:20260511T103000
DTEND;TZID=America/New_York:20260511T123000
DTSTAMP:20260424T060234
CREATED:20260420T161930Z
LAST-MODIFIED:20260420T161932Z
UID:10003966-1778495400-1778502600@happymediumbookscafe.com
SUMMARY:Learn to Play Mahjong
DESCRIPTION:This is a 2 day\, 2 hour class. Participants will get the 2026 American Mahjong Card.
URL:https://happymediumbookscafe.com/events/learn-to-play-mahjong-8/
LOCATION:Happy Medium Books Cafe\, 2724 Park St\, Jacksonville\, FL\, 32205\, United States
ATTACH;FMTTYPE=image/png:https://happymediumbookscafe.com/wp-content/uploads/2026/04/May-Learn-to-Play-Mahjong-.png
END:VEVENT
BEGIN:VEVENT
DTSTART;TZID=America/New_York:20260511T150000
DTEND;TZID=America/New_York:20260511T170000
DTSTAMP:20260424T060234
CREATED:20260101T030723Z
LAST-MODIFIED:20260101T030725Z
UID:10003277-1778511600-1778518800@happymediumbookscafe.com
SUMMARY:Mahjong Meet Ups
DESCRIPTION:If you KNOW how to play Mahjong and are wanting to meet up and play\, this is for you!  \nJoin our group and get our Group Me notifications about upcoming Meet Ups. \nContact the store to get on our list! \nAll skills welcome. \nGame and 2025 cards are provided.
URL:https://happymediumbookscafe.com/events/mahjong-meet-ups/2026-05-11/
LOCATION:Happy Medium Books Cafe\, 2724 Park St\, Jacksonville\, FL\, 32205\, United States
ATTACH;FMTTYPE=image/png:https://happymediumbookscafe.com/wp-content/uploads/2026/01/756E1529-F788-49D7-8AD2-FB8A01A15DD7.png
END:VEVENT
BEGIN:VEVENT
DTSTART;TZID=America/New_York:20260511T183000
DTEND;TZID=America/New_York:20260511T200000
DTSTAMP:20260424T060234
CREATED:20260410T145559Z
LAST-MODIFIED:20260422T142302Z
UID:10003958-1778524200-1778529600@happymediumbookscafe.com
SUMMARY:BookTalk with Tia Levings
DESCRIPTION:Join us at Happy Medium Books Café for an evening with Tia Levings as she discusses her new release – I Belong to Me. \n\n\nTIA LEVINGS writes about the realities of Christian fundamentalism\, evangelical patriarchy\, and religious trauma. She is also a podcaster\, speaker\, and content strategist. She’s been quoted in Salon\, Newsweek\, and the Huff Post\, and appeared in the hit Amazon docu-series\, Shiny Happy People. Based in Jacksonville\, Florida\, she is mom to four incredible adults and loves to travel\, hike\, paint\, and daydream. Find her on social media @TiaLevingsWriter. I Belong to Me is her follow-up to her best selling memoir\, A Well-Trained Wife. \nReservations Required\, Tickets are Free.
URL:https://happymediumbookscafe.com/events/22856/
LOCATION:Happy Medium Books Cafe\, 2724 Park St\, Jacksonville\, FL\, 32205\, United States
ATTACH;FMTTYPE=image/png:https://happymediumbookscafe.com/wp-content/uploads/2026/04/I-Belong-to-Me-Author-Tia-Levings-FB-Post-2.png
END:VEVENT
END:VCALENDAR