BEGIN:VCALENDAR
VERSION:2.0
PRODID:-//Best bookstore café in Jacksonville, FL | Happy Medium Books Café - ECPv6.15.11//NONSGML v1.0//EN
CALSCALE:GREGORIAN
METHOD:PUBLISH
X-ORIGINAL-URL:https://happymediumbookscafe.com
X-WR-CALDESC:Events for Best bookstore café in Jacksonville, FL | Happy Medium Books Café
REFRESH-INTERVAL;VALUE=DURATION:PT1H
X-Robots-Tag:noindex
X-PUBLISHED-TTL:PT1H
BEGIN:VTIMEZONE
TZID:America/New_York
BEGIN:DAYLIGHT
TZOFFSETFROM:-0500
TZOFFSETTO:-0400
TZNAME:EDT
DTSTART:20250309T070000
END:DAYLIGHT
BEGIN:STANDARD
TZOFFSETFROM:-0400
TZOFFSETTO:-0500
TZNAME:EST
DTSTART:20251102T060000
END:STANDARD
BEGIN:DAYLIGHT
TZOFFSETFROM:-0500
TZOFFSETTO:-0400
TZNAME:EDT
DTSTART:20260308T070000
END:DAYLIGHT
BEGIN:STANDARD
TZOFFSETFROM:-0400
TZOFFSETTO:-0500
TZNAME:EST
DTSTART:20261101T060000
END:STANDARD
BEGIN:DAYLIGHT
TZOFFSETFROM:-0500
TZOFFSETTO:-0400
TZNAME:EDT
DTSTART:20270314T070000
END:DAYLIGHT
BEGIN:STANDARD
TZOFFSETFROM:-0400
TZOFFSETTO:-0500
TZNAME:EST
DTSTART:20271107T060000
END:STANDARD
END:VTIMEZONE
BEGIN:VEVENT
DTSTART;TZID=America/New_York:20260505T190000
DTEND;TZID=America/New_York:20260505T203000
DTSTAMP:20260424T071848
CREATED:20260410T142410Z
LAST-MODIFIED:20260410T142412Z
UID:10003953-1778007600-1778013000@happymediumbookscafe.com
SUMMARY:Reading Sprints
DESCRIPTION:Join us at Happy Medium for a night of Reading Sprints! \nWhat are Reading Sprints?\nIt is a style of reading that focuses on reading productivity. Similar toThe Pomodoro Technique for learning. \nEveryone gathers with their individually selected titles and we spend time chatting\, getting drinks and snacks\, etc… \nOnce everyone is settled\,\nwe set a timer for 20 minutes. everybody reads silently until that timer is finished. \n5-10 minute stretch break\, or time to chat…\nRepeat!\nWe plan on 4 cycles of reading and when we are done\, you have read 180 minutes of reading! \nRSVP\, so we will save you a seat!
URL:https://happymediumbookscafe.com/events/reading-sprints-5/
LOCATION:Happy Medium Books Cafe\, 2724 Park St\, Jacksonville\, FL\, 32205\, United States
ATTACH;FMTTYPE=image/png:https://happymediumbookscafe.com/wp-content/uploads/2026/04/1-2.png
END:VEVENT
END:VCALENDAR