BEGIN:VCALENDAR
VERSION:2.0
PRODID:-//Best bookstore café in Jacksonville, FL | Happy Medium Books Café - ECPv6.15.11//NONSGML v1.0//EN
CALSCALE:GREGORIAN
METHOD:PUBLISH
X-WR-CALNAME:Best bookstore café in Jacksonville, FL | Happy Medium Books Café
X-ORIGINAL-URL:https://happymediumbookscafe.com
X-WR-CALDESC:Events for Best bookstore café in Jacksonville, FL | Happy Medium Books Café
REFRESH-INTERVAL;VALUE=DURATION:PT1H
X-Robots-Tag:noindex
X-PUBLISHED-TTL:PT1H
BEGIN:VTIMEZONE
TZID:America/New_York
BEGIN:DAYLIGHT
TZOFFSETFROM:-0500
TZOFFSETTO:-0400
TZNAME:EDT
DTSTART:20250309T070000
END:DAYLIGHT
BEGIN:STANDARD
TZOFFSETFROM:-0400
TZOFFSETTO:-0500
TZNAME:EST
DTSTART:20251102T060000
END:STANDARD
BEGIN:DAYLIGHT
TZOFFSETFROM:-0500
TZOFFSETTO:-0400
TZNAME:EDT
DTSTART:20260308T070000
END:DAYLIGHT
BEGIN:STANDARD
TZOFFSETFROM:-0400
TZOFFSETTO:-0500
TZNAME:EST
DTSTART:20261101T060000
END:STANDARD
BEGIN:DAYLIGHT
TZOFFSETFROM:-0500
TZOFFSETTO:-0400
TZNAME:EDT
DTSTART:20270314T070000
END:DAYLIGHT
BEGIN:STANDARD
TZOFFSETFROM:-0400
TZOFFSETTO:-0500
TZNAME:EST
DTSTART:20271107T060000
END:STANDARD
END:VTIMEZONE
BEGIN:VEVENT
DTSTART;TZID=America/New_York:20260420T150000
DTEND;TZID=America/New_York:20260420T170000
DTSTAMP:20260420T055909
CREATED:20260101T030723Z
LAST-MODIFIED:20260101T030725Z
UID:10003274-1776697200-1776704400@happymediumbookscafe.com
SUMMARY:Mahjong Meet Ups
DESCRIPTION:If you KNOW how to play Mahjong and are wanting to meet up and play\, this is for you!  \nJoin our group and get our Group Me notifications about upcoming Meet Ups. \nContact the store to get on our list! \nAll skills welcome. \nGame and 2025 cards are provided.
URL:https://happymediumbookscafe.com/events/mahjong-meet-ups/2026-04-20/
LOCATION:Happy Medium Books Cafe\, 2724 Park St\, Jacksonville\, FL\, 32205\, United States
ATTACH;FMTTYPE=image/png:https://happymediumbookscafe.com/wp-content/uploads/2026/01/756E1529-F788-49D7-8AD2-FB8A01A15DD7.png
END:VEVENT
BEGIN:VEVENT
DTSTART;TZID=America/New_York:20260420T180000
DTEND;TZID=America/New_York:20260420T200000
DTSTAMP:20260420T055909
CREATED:20260328T125649Z
LAST-MODIFIED:20260402T143234Z
UID:10003938-1776708000-1776715200@happymediumbookscafe.com
SUMMARY:Learn to Play Mahjong NIGHT CLASS Day 1
DESCRIPTION:This is a 2 day class for Mahjong Beginners. \n$85 covers the 2 – 2 hour classes on Monday\, April 20th and Wednesday\, April 22nd from 6-8pm. \nIncludes the 2026 National Mahjong Card.
URL:https://happymediumbookscafe.com/events/learn-to-play-mahjong-night-class-day-1/
LOCATION:Happy Medium Books Cafe\, 2724 Park St\, Jacksonville\, FL\, 32205\, United States
ATTACH;FMTTYPE=image/png:https://happymediumbookscafe.com/wp-content/uploads/2026/03/Learn-to-Play-Mahjong-7.png
END:VEVENT
END:VCALENDAR