BEGIN:VCALENDAR
VERSION:2.0
PRODID:-//Best bookstore café in Jacksonville, FL | Happy Medium Books Café - ECPv6.15.11//NONSGML v1.0//EN
CALSCALE:GREGORIAN
METHOD:PUBLISH
X-ORIGINAL-URL:https://happymediumbookscafe.com
X-WR-CALDESC:Events for Best bookstore café in Jacksonville, FL | Happy Medium Books Café
REFRESH-INTERVAL;VALUE=DURATION:PT1H
X-Robots-Tag:noindex
X-PUBLISHED-TTL:PT1H
BEGIN:VTIMEZONE
TZID:America/New_York
BEGIN:DAYLIGHT
TZOFFSETFROM:-0500
TZOFFSETTO:-0400
TZNAME:EDT
DTSTART:20250309T070000
END:DAYLIGHT
BEGIN:STANDARD
TZOFFSETFROM:-0400
TZOFFSETTO:-0500
TZNAME:EST
DTSTART:20251102T060000
END:STANDARD
BEGIN:DAYLIGHT
TZOFFSETFROM:-0500
TZOFFSETTO:-0400
TZNAME:EDT
DTSTART:20260308T070000
END:DAYLIGHT
BEGIN:STANDARD
TZOFFSETFROM:-0400
TZOFFSETTO:-0500
TZNAME:EST
DTSTART:20261101T060000
END:STANDARD
BEGIN:DAYLIGHT
TZOFFSETFROM:-0500
TZOFFSETTO:-0400
TZNAME:EDT
DTSTART:20270314T070000
END:DAYLIGHT
BEGIN:STANDARD
TZOFFSETFROM:-0400
TZOFFSETTO:-0500
TZNAME:EST
DTSTART:20271107T060000
END:STANDARD
END:VTIMEZONE
BEGIN:VEVENT
DTSTART;TZID=America/New_York:20260321T110000
DTEND;TZID=America/New_York:20260321T140000
DTSTAMP:20260424T071851
CREATED:20260310T184448Z
LAST-MODIFIED:20260310T184458Z
UID:10003850-1774090800-1774101600@happymediumbookscafe.com
SUMMARY:Books & Music with Jenny Robinson Clark & Travis Clark
DESCRIPTION:Join us for a heart-centered family gathering at Happy Medium Books Cafe as we celebrate the debut of “Are You Here?” by author and mom Jenny Robinson Clark.\nCreated as a gentle way to help children understand grief\, love\, and connection\, “Are You Here?” opens the door for meaningful conversations in a way that feels comforting\, imaginative\, and age-appropriate. Inspired by the passing of her own mother\, Jenny wrote this book to help families talk about big feelings with more openness\, faith\, and reassurance.\nThis special Saturday event will include:\n– Signed books on site\n– Coloring sheets by the illustrator for kids\n– Time to connect with other families\n– Live acoustic music in the café \nJenny’s husband\, Travis Clark (frontman of We The Kings)\, will perform an intimate acoustic set\, including an original companion song written for the book. \nWhether you’re navigating conversations about loss or simply looking for a meaningful way to spend a Saturday morning together\, this event is designed to create space for connection\, comfort\, and community. \nBring your little ones\, grab a coffee\, and join us for a beautiful morning of stories\, music\, and togetherness.
URL:https://happymediumbookscafe.com/events/books-music-with-jenny-robinson-clark-travis-clark/
LOCATION:Happy Medium Books Cafe\, 2724 Park St\, Jacksonville\, FL\, 32205\, United States
ATTACH;FMTTYPE=image/png:https://happymediumbookscafe.com/wp-content/uploads/2026/03/Are-You-Still-There-Flyer-2.png
END:VEVENT
END:VCALENDAR