BEGIN:VCALENDAR
VERSION:2.0
PRODID:-//Best bookstore café in Jacksonville, FL | Happy Medium Books Café - ECPv6.15.11//NONSGML v1.0//EN
CALSCALE:GREGORIAN
METHOD:PUBLISH
X-ORIGINAL-URL:https://happymediumbookscafe.com
X-WR-CALDESC:Events for Best bookstore café in Jacksonville, FL | Happy Medium Books Café
REFRESH-INTERVAL;VALUE=DURATION:PT1H
X-Robots-Tag:noindex
X-PUBLISHED-TTL:PT1H
BEGIN:VTIMEZONE
TZID:America/New_York
BEGIN:DAYLIGHT
TZOFFSETFROM:-0500
TZOFFSETTO:-0400
TZNAME:EDT
DTSTART:20250309T070000
END:DAYLIGHT
BEGIN:STANDARD
TZOFFSETFROM:-0400
TZOFFSETTO:-0500
TZNAME:EST
DTSTART:20251102T060000
END:STANDARD
BEGIN:DAYLIGHT
TZOFFSETFROM:-0500
TZOFFSETTO:-0400
TZNAME:EDT
DTSTART:20260308T070000
END:DAYLIGHT
BEGIN:STANDARD
TZOFFSETFROM:-0400
TZOFFSETTO:-0500
TZNAME:EST
DTSTART:20261101T060000
END:STANDARD
BEGIN:DAYLIGHT
TZOFFSETFROM:-0500
TZOFFSETTO:-0400
TZNAME:EDT
DTSTART:20270314T070000
END:DAYLIGHT
BEGIN:STANDARD
TZOFFSETFROM:-0400
TZOFFSETTO:-0500
TZNAME:EST
DTSTART:20271107T060000
END:STANDARD
END:VTIMEZONE
BEGIN:VEVENT
DTSTART;TZID=America/New_York:20260318T103000
DTEND;TZID=America/New_York:20260318T120000
DTSTAMP:20260424T060453
CREATED:20260315T201519Z
LAST-MODIFIED:20260315T201521Z
UID:10003863-1773829800-1773835200@happymediumbookscafe.com
SUMMARY:Happy Medium Book Club
DESCRIPTION:Join us at the cafe to discuss Wild Dark Shore by Charlotte McConaghy. \nAs always\, book club books are 20% off at Happy Medium Books Café.
URL:https://happymediumbookscafe.com/events/happy-medium-book-club-4/
LOCATION:Happy Medium Books Cafe\, 2724 Park St\, Jacksonville\, FL\, 32205\, United States
ATTACH;FMTTYPE=image/png:https://happymediumbookscafe.com/wp-content/uploads/2026/03/Copy-of-Copy-of-Copy-of-MONTHLY-COLLECTION-3.png
END:VEVENT
BEGIN:VEVENT
DTSTART;TZID=America/New_York:20260318T190000
DTEND;TZID=America/New_York:20260318T203000
DTSTAMP:20260424T060453
CREATED:20260217T224239Z
LAST-MODIFIED:20260217T224241Z
UID:10003824-1773860400-1773865800@happymediumbookscafe.com
SUMMARY:A Night with Wayne Wood
DESCRIPTION:Join us to celebrate the launch of Wayne Wood’s newest book\, Kenneth Treister – The Fusion of Architecture +Art\, a comprehensive view of the life and work of Florida architect Kenneth Treister.  \nKenneth Treister is a Florida architect and sculptor whose work is a dazzling synthesis of architecture and art. His avant-garde approach to creating sensuous environments with unconventional shapes and novel use of materials sets him apart from other designers. Surprisingly\, his work is not widely known outside south Florida\, where the majority of his career has taken place. This new book by Jacksonville architectural historian Wayne Wood is the first comprehensive monograph of Treister’s life and work and is lavishly illustrated with over 200 photos by the author and from Treister’s own personal archives. \nAn enormously talented sculptor as well as architect\, Treister designed the furniture\, art glass\, light fixtures\, landscaping\, and decorations for many of his projects. His buildings are a prime example of Gesamtkunstwerk\, the 19th-century German concept of creating a total work of art in which different art forms are combined to create a single cohesive whole. Treister’s designs have been described as “a cross between Frank Lloyd Wright\, Antoni Gaudi\, Auguste Rodin\, and the Mayans.” \nStill remarkably creative at age 95\, he is one of the oldest living architects who worked with Frank Lloyd Wright. His phenomenal body of work deserves recognition as one of America’s great organic architects. \nBooks will be available for purchase the night of the event. \n 
URL:https://happymediumbookscafe.com/events/a-night-with-wayne-wood/
LOCATION:Happy Medium Books Cafe\, 2724 Park St\, Jacksonville\, FL\, 32205\, United States
ATTACH;FMTTYPE=image/png:https://happymediumbookscafe.com/wp-content/uploads/2026/02/Wayne-Woods-Book-Launch-Instagram-Post-45-2.png
END:VEVENT
BEGIN:VEVENT
DTSTART;TZID=America/New_York:20260318T190000
DTEND;TZID=America/New_York:20260318T203000
DTSTAMP:20260424T060453
CREATED:20260315T202618Z
LAST-MODIFIED:20260315T204915Z
UID:10003864-1773860400-1773865800@happymediumbookscafe.com
SUMMARY:Wine Date with a Book
DESCRIPTION:Join us at Cork Thyme and All Spiced up in Avondale to discuss The Lost Vintage by Ann Mah. \nAs always\, book club books are 20% off at Happy Medium Books Cafe.
URL:https://happymediumbookscafe.com/events/wine-date-with-a-book-3/
LOCATION:Cork Thyme @ All Spiced up Avondale\, 3543 St Johns Ave\, Jacksonville\, FL\, 32205
ATTACH;FMTTYPE=image/png:https://happymediumbookscafe.com/wp-content/uploads/2026/03/2-1.png
END:VEVENT
END:VCALENDAR